BEGIN:VCALENDAR
VERSION:2.0
PRODID:-//Dunedin Fine Art Center - ECPv6.15.15//NONSGML v1.0//EN
CALSCALE:GREGORIAN
METHOD:PUBLISH
X-WR-CALNAME:Dunedin Fine Art Center
X-ORIGINAL-URL:https://www.dfac.org
X-WR-CALDESC:Events for Dunedin Fine Art Center
REFRESH-INTERVAL;VALUE=DURATION:PT1H
X-Robots-Tag:noindex
X-PUBLISHED-TTL:PT1H
BEGIN:VTIMEZONE
TZID:America/New_York
BEGIN:DAYLIGHT
TZOFFSETFROM:-0500
TZOFFSETTO:-0400
TZNAME:EDT
DTSTART:20250309T070000
END:DAYLIGHT
BEGIN:STANDARD
TZOFFSETFROM:-0400
TZOFFSETTO:-0500
TZNAME:EST
DTSTART:20251102T060000
END:STANDARD
BEGIN:DAYLIGHT
TZOFFSETFROM:-0500
TZOFFSETTO:-0400
TZNAME:EDT
DTSTART:20260308T070000
END:DAYLIGHT
BEGIN:STANDARD
TZOFFSETFROM:-0400
TZOFFSETTO:-0500
TZNAME:EST
DTSTART:20261101T060000
END:STANDARD
BEGIN:DAYLIGHT
TZOFFSETFROM:-0500
TZOFFSETTO:-0400
TZNAME:EDT
DTSTART:20270314T070000
END:DAYLIGHT
BEGIN:STANDARD
TZOFFSETFROM:-0400
TZOFFSETTO:-0500
TZNAME:EST
DTSTART:20271107T060000
END:STANDARD
END:VTIMEZONE
BEGIN:VEVENT
DTSTART;TZID=America/New_York:20260224T130000
DTEND;TZID=America/New_York:20260224T150000
DTSTAMP:20260424T113749
CREATED:20260108T201120Z
LAST-MODIFIED:20260129T181915Z
UID:10000580-1771938000-1771945200@www.dfac.org
SUMMARY:W-PT213 Mountains Within- Painting the Landscape of your Heart with Scara Abe
DESCRIPTION:SOLD OUT!  \n\n\n\n\n\nAll levels welcome! \n\n\n\n\n\nWe Invite you to a sumi-e workshop where you will paint the mountain landscape that lives within your heart.  Each participant will freely express the mountain that comes to mind\, using traditional Japanese ink. \n\n\n\nYour mountain may be: \n\n\n\nMt. Fuji\, a symbol of Japan \n\n\n\nA sacred\, imaginary mountain that rises in the heavenly realm \n\n\n\nA memorable mountain you encountered during your travels \n\n\n\nA nostalgic mountain from your hometown \n\n\n\nOr a mountain shaped by your own memories and emotions \n\n\n\nWith the soft gradations of ink and the quiet rhythm of the brush\, we will capture these inner landscapes on paper. \n\n\n\nBeginners are warmly welcome \n\n\n\nJoin us for a peaceful and creative time to let your heart become clear and open through the act of  sumi-e \n\n\n\n$20 Material fee paid directly to instructor for Japanese brushes and papers \n\n\n\n\nRegister\n\n\n\n\n\n\n\n\n\n\n\n\n\n\n\n\n\n\n\n\nDetails\n\n\n\n\n\n\n\n\n\n\n\n\n\n\n\n\n\n\n\n\n\nDate & Time: \n\n\n\n\n\n\n\n\n\n\n\nInstructor
URL:https://www.dfac.org/class/w-pt213-mountains-within-painting-the-landscape-of-your-heart-with-scara-abe/
CATEGORIES:Adult Workshops
ATTACH;FMTTYPE=image/jpeg:https://www.dfac.org/wp-content/uploads/2026/01/ScaraAbe1.jpg
END:VEVENT
END:VCALENDAR