BEGIN:VCALENDAR
VERSION:2.0
PRODID:-//Dunedin Fine Art Center - ECPv6.15.15//NONSGML v1.0//EN
CALSCALE:GREGORIAN
METHOD:PUBLISH
X-WR-CALNAME:Dunedin Fine Art Center
X-ORIGINAL-URL:https://www.dfac.org
X-WR-CALDESC:Events for Dunedin Fine Art Center
REFRESH-INTERVAL;VALUE=DURATION:PT1H
X-Robots-Tag:noindex
X-PUBLISHED-TTL:PT1H
BEGIN:VTIMEZONE
TZID:America/New_York
BEGIN:DAYLIGHT
TZOFFSETFROM:-0500
TZOFFSETTO:-0400
TZNAME:EDT
DTSTART:20240310T070000
END:DAYLIGHT
BEGIN:STANDARD
TZOFFSETFROM:-0400
TZOFFSETTO:-0500
TZNAME:EST
DTSTART:20241103T060000
END:STANDARD
BEGIN:DAYLIGHT
TZOFFSETFROM:-0500
TZOFFSETTO:-0400
TZNAME:EDT
DTSTART:20250309T070000
END:DAYLIGHT
BEGIN:STANDARD
TZOFFSETFROM:-0400
TZOFFSETTO:-0500
TZNAME:EST
DTSTART:20251102T060000
END:STANDARD
BEGIN:DAYLIGHT
TZOFFSETFROM:-0500
TZOFFSETTO:-0400
TZNAME:EDT
DTSTART:20260308T070000
END:DAYLIGHT
BEGIN:STANDARD
TZOFFSETFROM:-0400
TZOFFSETTO:-0500
TZNAME:EST
DTSTART:20261101T060000
END:STANDARD
BEGIN:DAYLIGHT
TZOFFSETFROM:-0500
TZOFFSETTO:-0400
TZNAME:EDT
DTSTART:20270314T070000
END:DAYLIGHT
BEGIN:STANDARD
TZOFFSETFROM:-0400
TZOFFSETTO:-0500
TZNAME:EST
DTSTART:20271107T060000
END:STANDARD
END:VTIMEZONE
BEGIN:VEVENT
DTSTART;TZID=America/New_York:20260225T130000
DTEND;TZID=America/New_York:20260225T150000
DTSTAMP:20260420T104634
CREATED:20260122T145359Z
LAST-MODIFIED:20260122T145400Z
UID:10000582-1772024400-1772031600@www.dfac.org
SUMMARY:PT368 Introduction to Japanese Sumi-e with Noriko Kuehn
DESCRIPTION:Wednesdays\, 6 Week CourseAll levels welcome! \n\n\n\n\n\nDiscover the serene artistry of Sumi-e\, the traditional Japanese art of ink painting. In this course\, students will learn the fundamental techniques of this meditative art form that captures the essence of subjects with minimal\, fluid brushstrokes.  We begin by exploring proper brush handling\, ink preparation\, and essential brushstrokes known as the Four Gentlemen: bamboo\, orchid\, chrysanthemum\, and plum blossom.  \n\n\n\nSupply List:  A $30 fee is paid directly to the instructor to cover cost of Sumi Ink\, Japanese brush & some paper which the student keeps. \n\n\n\n\nRegister\n\n\n\n\n\n\n\n\n\n\n\n\n\n\n\n\nDetails\n\n\n\n\n\n\n\n\n\n\n\n\n\n\n\n\n\n\n\n\n\nDate & Time: \n\n\n\n\n\n\n\n\n\n\n\nInstructor
URL:https://www.dfac.org/class/pt368-introduction-to-japanese-sumi-e-with-noriko-kuehn-4/
CATEGORIES:Adult Classes
ATTACH;FMTTYPE=image/jpeg:https://www.dfac.org/wp-content/uploads/2025/11/PT368.jpg
END:VEVENT
BEGIN:VEVENT
DTSTART;TZID=America/New_York:20260223T130000
DTEND;TZID=America/New_York:20260223T150000
DTSTAMP:20260420T104634
CREATED:20260122T145138Z
LAST-MODIFIED:20260122T145140Z
UID:10000581-1771851600-1771858800@www.dfac.org
SUMMARY:PT380 Zen Art & Meditation with Noriko Kuehn
DESCRIPTION:All levels welcome!  \n\n\n\n\n\nUnite mindfulness with creativity in this transformative class combining meditation practice and intuitive art creation. Begin with guided breathing and centering exercises\, then express your inner calm through spontaneous drawing. No artistic experience required – focus on process over product. Perfect for stress reduction\, self-discovery\, and accessing your inner creative flow. Leave feeling centered\, inspired\, and reconnect to your authentic creative voice. Beginners and seasoned practitioners equally welcome. Ages 17 and up. \n\n\n\nThere is a $30 materials fee paid directly to the instructor. \n\n\n\n\nRegister\n\n\n\n\n\n\n\n\n\n\n\n\n\n\n\n\nDetails\n\n\n\n\n\n\n\n\n\n\n\n\n\n\n\n\n\n\n\n\n\nDate & Time: \n\n\n\n\n\n\n\n\n\n\n\nInstructor
URL:https://www.dfac.org/class/pt380-zen-art-meditation-with-noriko-kuehn-2/
CATEGORIES:Adult Classes
ATTACH;FMTTYPE=image/jpeg:https://www.dfac.org/wp-content/uploads/2025/11/PT380.jpg
END:VEVENT
BEGIN:VEVENT
DTSTART;TZID=America/New_York:20260107T130000
DTEND;TZID=America/New_York:20260107T150000
DTSTAMP:20260420T104634
CREATED:20251107T143045Z
LAST-MODIFIED:20251229T162505Z
UID:10000310-1767790800-1767798000@www.dfac.org
SUMMARY:PT368 Introduction to Japanese Sumi-e with Noriko Kuehn
DESCRIPTION:Wednesdays\, 6 Week CourseAll levels welcome! \n\n\n\n\n\nDiscover the serene artistry of Sumi-e\, the traditional Japanese art of ink painting. In this course\, students will learn the fundamental techniques of this meditative art form that captures the essence of subjects with minimal\, fluid brushstrokes.  We begin by exploring proper brush handling\, ink preparation\, and essential brushstrokes known as the Four Gentlemen: bamboo\, orchid\, chrysanthemum\, and plum blossom.  \n\n\n\nSupply List:  A $30 fee is paid directly to the instructor to cover cost of Sumi Ink\, Japanese brush & some paper which the student keeps. \n\n\n\n\nRegister\n\n\n\n\n\n\n\n\n\n\n\n\n\n\n\n\nDetails\n\n\n\n\n\n\n\n\n\n\n\n\n\n\n\n\n\n\n\n\n\nDate & Time: \n\n\n\n\n\n\n\n\n\n\n\nInstructor
URL:https://www.dfac.org/class/pt368-introduction-to-japanese-sumi-e-with-noriko-kuehn-3/
CATEGORIES:Adult Classes
ATTACH;FMTTYPE=image/jpeg:https://www.dfac.org/wp-content/uploads/2025/11/PT368.jpg
END:VEVENT
BEGIN:VEVENT
DTSTART;TZID=America/New_York:20260105T130000
DTEND;TZID=America/New_York:20260105T150000
DTSTAMP:20260420T104634
CREATED:20251107T143132Z
LAST-MODIFIED:20251118T193721Z
UID:10000311-1767618000-1767625200@www.dfac.org
SUMMARY:PT380 Zen Art & Meditation with Noriko Kuehn
DESCRIPTION:All levels welcome!  \n\n\n\n\n\nUnite mindfulness with creativity in this transformative class combining meditation practice and intuitive art creation. Begin with guided breathing and centering exercises\, then express your inner calm through spontaneous drawing. No artistic experience required – focus on process over product. Perfect for stress reduction\, self-discovery\, and accessing your inner creative flow. Leave feeling centered\, inspired\, and reconnect to your authentic creative voice. Beginners and seasoned practitioners equally welcome. Ages 17 and up. \n\n\n\nThere is a $30 materials fee paid directly to the instructor. \n\n\n\n\nRegister\n\n\n\n\n\n\n\n\n\n\n\n\n\n\n\n\nDetails\n\n\n\n\n\n\n\n\n\n\n\n\n\n\n\n\n\n\n\n\n\nDate & Time: \n\n\n\n\n\n\n\n\n\n\n\nInstructor
URL:https://www.dfac.org/class/pt380-zen-art-meditation-with-noriko-kuehn/
CATEGORIES:Adult Classes
ATTACH;FMTTYPE=image/jpeg:https://www.dfac.org/wp-content/uploads/2025/11/PT380.jpg
END:VEVENT
BEGIN:VEVENT
DTSTART;TZID=America/New_York:20250604T130000
DTEND;TZID=America/New_York:20250604T150000
DTSTAMP:20260420T104634
CREATED:20250601T220840Z
LAST-MODIFIED:20250703T162458Z
UID:10000050-1749042000-1749049200@www.dfac.org
SUMMARY:PT371 Advanced Japanese Sumi-e: Mastering Spirit and Form with Noriko Kuehn
DESCRIPTION:Wednesday\, 6 Week ClassAdvanced \n\n\n\n\n\nThis advanced Sumi-e course delves deep into the sophisticated techniques and philosophical underpinnings of Japanese ink painting. Designed for experienced Sumi-e practitioners who have mastered the fundamental techniques\, this intensive course pushes the boundaries of traditional practice while honoring its core principles. Students will explore complex subjects including dynamic landscapes (sansui-ga)\, birds in flight\, human figures\, and abstract expressions of natural phenomena such as wind and rain.  \n\n\n\nSupply List: A $20 fee is paid directly to the instructor to cover cost of Sumi Ink\, Japanese brush & some paper which the student keeps. \n\n\n\n\nRegister\n\n\n\n\n\n\n\n\n\n\n\n\n\n\nDetails\n\n\n\n\n\n\n\n\n\n\n\n\n\n\n\n\n\n\n\n\n\nDate & Time: \n\n\n\n\n\n\n\n\n\n\n\nInstructor
URL:https://www.dfac.org/class/pt371-advanced-japanese-sumi-e-mastering-spirit-and-form-with-noriko-kuehn/
CATEGORIES:Adult Classes
ATTACH;FMTTYPE=image/jpeg:https://www.dfac.org/wp-content/uploads/2025/06/PT371-Advanced-Sumi-e.jpg
END:VEVENT
BEGIN:VEVENT
DTSTART;TZID=America/New_York:20250602T130000
DTEND;TZID=America/New_York:20250602T150000
DTSTAMP:20260420T104634
CREATED:20250601T213407Z
LAST-MODIFIED:20250703T162517Z
UID:10000044-1748869200-1748876400@www.dfac.org
SUMMARY:PT368 Introduction to Japanese Sumi-e with Noriko Kuehn
DESCRIPTION:Mondays\, 6 Week CourseAll levels welcome!  \n\n\n\n\n\nDiscover the serene artistry of Sumi-e\, the traditional Japanese art of ink painting. In this course\, students will learn the fundamental techniques of this meditative art form that captures the essence of subjects with minimal\, fluid brushstrokes.  We begin by exploring proper brush handling\, ink preparation\, and essential brushstrokes known as the Four Gentlemen: bamboo\, orchid\, chrysanthemum\, and plum blossom.  \n\n\n\nSupply List:  A $20 fee is paid directly to the instructor to cover cost of Sumi Ink\, Japanese brush & some paper which the student keeps. \n\n\n\n\nRegister\n\n\n\n\n\n\n\n\n\n\n\n\n\n\nDetails\n\n\n\n\n\n\n\n\n\n\n\n\n\n\n\n\n\n\n\n\n\nDate & Time: \n\n\n\n\n\n\n\n\n\n\n\nInstructor
URL:https://www.dfac.org/class/pt368-introduction-to-japanese-sumi-e-with-noriko-kuehn/
CATEGORIES:Adult Classes
ATTACH;FMTTYPE=image/jpeg:https://www.dfac.org/wp-content/uploads/2025/06/PT368-Introduction-to-Japanese-Sumi-e-.jpg
END:VEVENT
END:VCALENDAR