BEGIN:VCALENDAR
VERSION:2.0
PRODID:-//Dunedin Fine Art Center - ECPv6.15.15//NONSGML v1.0//EN
CALSCALE:GREGORIAN
METHOD:PUBLISH
X-WR-CALNAME:Dunedin Fine Art Center
X-ORIGINAL-URL:https://www.dfac.org
X-WR-CALDESC:Events for Dunedin Fine Art Center
REFRESH-INTERVAL;VALUE=DURATION:PT1H
X-Robots-Tag:noindex
X-PUBLISHED-TTL:PT1H
BEGIN:VTIMEZONE
TZID:America/New_York
BEGIN:DAYLIGHT
TZOFFSETFROM:-0500
TZOFFSETTO:-0400
TZNAME:EDT
DTSTART:20250309T070000
END:DAYLIGHT
BEGIN:STANDARD
TZOFFSETFROM:-0400
TZOFFSETTO:-0500
TZNAME:EST
DTSTART:20251102T060000
END:STANDARD
BEGIN:DAYLIGHT
TZOFFSETFROM:-0500
TZOFFSETTO:-0400
TZNAME:EDT
DTSTART:20260308T070000
END:DAYLIGHT
BEGIN:STANDARD
TZOFFSETFROM:-0400
TZOFFSETTO:-0500
TZNAME:EST
DTSTART:20261101T060000
END:STANDARD
BEGIN:DAYLIGHT
TZOFFSETFROM:-0500
TZOFFSETTO:-0400
TZNAME:EDT
DTSTART:20270314T070000
END:DAYLIGHT
BEGIN:STANDARD
TZOFFSETFROM:-0400
TZOFFSETTO:-0500
TZNAME:EST
DTSTART:20271107T060000
END:STANDARD
END:VTIMEZONE
BEGIN:VEVENT
DTSTART;TZID=America/New_York:20260911T100000
DTEND;TZID=America/New_York:20260911T130000
DTSTAMP:20260422T170716
CREATED:20250606T195300Z
LAST-MODIFIED:20260402T144950Z
UID:10000174-1789120800-1789131600@www.dfac.org
SUMMARY:PT583 Creative Techniques in Watercolor With Kerry Stratton Waltz
DESCRIPTION:Fridays\, 6 Week ClassAll levels welcome! \n\n\n\n\n\nThis class will focus on using experimental techniques to create special effects in watercolor.  We will focus on color theory\, strong composition\, value control and unique techniques to create strong paintings.  We will be using a variety of watermedia materials such as; gouache\, acrylic\, gesso and water-soluble inks\, pencils and crayons. No experience is needed but must have a desire to experiment. \n\n\n\nClick Here for Supply List\nWatercolor paper- 140 lb. cold press Arches or fabriano artistico \n\n\n\nWatercolor paint- grumbacher academy or cottman student grade or any brand of professional paint Alizarin crimson\, cadmium red light cadmium yellow light\, cadmium yellow medium ultramarine blue prussian blue burnt sienna paynes gray. Any other colors you like. \n\n\n\nAny other watermedia listed that you have or would like to use \n\n\n\nInstructor will supply some additional materials for each lesson \n\n\n\n\n \n\n\n\n\nRegister\n\n\n\n\n\n\n\n\n\n\n\n\n\n\nDetails\n\n\n\n\n\n\n\n\n\n\n\n\n\n\n\n\n\n\n\n\n\nDate & Time: \n\n\n\n\n\n\n\n\n\n\n\nInstructor
URL:https://www.dfac.org/class/pt583-creative-techniques-in-watercolor-with-kerry-stratton-waltz-2/
CATEGORIES:Adult Classes
ATTACH;FMTTYPE=image/jpeg:https://www.dfac.org/wp-content/uploads/2025/06/PT583-Creative-Techniques-in-Watercolor.jpg
END:VEVENT
BEGIN:VEVENT
DTSTART;TZID=America/New_York:20260912T123000
DTEND;TZID=America/New_York:20260912T153000
DTSTAMP:20260422T170716
CREATED:20250606T201938Z
LAST-MODIFIED:20260406T151707Z
UID:10000180-1789216200-1789227000@www.dfac.org
SUMMARY:W-PT597 Introduction to Watercolor with Kerry Stratton Waltz
DESCRIPTION:All levels welcome!  \n\n\n\n\n\nThis class is a brief introduction to watercolors for beginners.  No prior experience needed\, just a desire to have fun.  We will finish a painting that you can take home.  We will even supply all the materials so you can try watercolor techniques before investing in supplies. \n\n\n\nAges 17 and up. \n\n\n\n\nRegister\n\n\n\n\n\n\n\n\n\n\n\n\n\n\nDetails\n\n\n\n\n\n\n\n\n\n\n\n\n\n\n\n\n\n\n\n\n\nDate & Time: \n\n\n\n\n\n\n\n\n\n\n\nInstructor
URL:https://www.dfac.org/class/w-pt597-introduction-to-watercolor-with-kerry-stratton-waltz-3/
CATEGORIES:Adult Workshops
ATTACH;FMTTYPE=image/jpeg:https://www.dfac.org/wp-content/uploads/2025/06/W-PT597-Introduction-to-Watercolor.jpg
END:VEVENT
BEGIN:VEVENT
DTSTART;TZID=America/New_York:20260919T123000
DTEND;TZID=America/New_York:20260919T153000
DTSTAMP:20260422T170716
CREATED:20250610T140150Z
LAST-MODIFIED:20260406T155324Z
UID:10000218-1789821000-1789831800@www.dfac.org
SUMMARY:W-PT578 Wet Watercolor with Kerry Stratton Waltz
DESCRIPTION:All levels welcome!  \n\n\n\n\n\nThis one-day workshop will explore all the wonderful creative techniques that watercolor offers. Demonstrations\, individual attention\, and classroom discussions that will help you create loose\, impressionistic and expressive watercolors. We will learn how to plan for success by using the elements of design\, color theory\, and making painting plans. Enjoy the liquidity and spontaneity of watercolor. \n\n\n\nAges 17 and up. \n\n\n\nClick Here for Supply List\nWatercolor Supply List \n\n\n\nWatercolor Paper : 140 lb. 100% cotton handmade paper (Arches) cold press. I prefer the sheet form which comes in 22×30” which can be cut down to four ¼ sheets which is a good size for class work. \n\n\n\nBrushes : watercolor brushes are soft and made of sable\, squirrel\, ox hair\, and many synthetics. The most important quality of the brush is that it springs back to shape when wet. Please bring at least one of each of the following brushes: 1” Flat Brush\, #8 Round Brush\, #3 Rigger Brush (thin brush with long hairs). \n\n\n\nPaint : I prefer watercolor paint in tubes. There are many very good brands of paint but what is important is to have a warm and cool of each primary color. Grumbacher Academy is a good inexpensive student grade brand. \n\n\n\nCool \n\n\n\nWarm \n\n\n\nRed \n\n\n\nAlizarin Crimson \n\n\n\nCad Red Light or Vermillion \n\n\n\nBlue \n\n\n\nPrussian Blue \n\n\n\nUltramarine Blue \n\n\n\nYellow \n\n\n\nLemon or Cad Yellow Light \n\n\n\nCad Yellow Medium \n\n\n\nOther useful colors: Paynes Gray\, Burnt Sienna\, Burnt Umber\, Viridian\, Thalo Crimson (pink) \n\n\n\nPalette : any white palette with a good mixing area or a plastic white plate (not foam) \n\n\n\nBoard: This is support for your paper while you are painting so it should be waterproof. Size depends on size of paper and can be made of wood\, plexiglass\, Masonite or Gatorboard. \n\n\n\n2 water containers\, sponges\, papter towels\, tissues\, pencil\, kneaded eraser\, salt\, masking tape\, white crayon\, white copy paper to test color and brush strokes. \n\n\n\nIf you are new to watercolor bring what you have to class and I will help you get started. I have paper and some supplies that you can use. \n\n\n\n\n \n\n\n\n\nRegister\n\n\n\n\n\n\n\n\n\n\n\n\n\n\nDetails\n\n\n\n\n\n\n\n\n\n\n\n\n\n\n\n\n\n\n\n\n\nDate & Time: \n\n\n\n\n\n\n\n\n\n\n\nInstructor
URL:https://www.dfac.org/class/w-pt578-wet-watercolor-with-kerry-stratton-waltz-4/
CATEGORIES:Adult Workshops
ATTACH;FMTTYPE=image/jpeg:https://www.dfac.org/wp-content/uploads/2025/06/W-PT578-Wet-Watercolor.jpg
END:VEVENT
BEGIN:VEVENT
DTSTART;TZID=America/New_York:20261010T123000
DTEND;TZID=America/New_York:20261010T153000
DTSTAMP:20260422T170716
CREATED:20250606T202041Z
LAST-MODIFIED:20260406T151810Z
UID:10000181-1791635400-1791646200@www.dfac.org
SUMMARY:W-PT597 Introduction to Watercolor with Kerry Stratton Waltz
DESCRIPTION:All levels welcome!  \n\n\n\n\n\nThis class is a brief introduction to watercolors for beginners.  No prior experience needed\, just a desire to have fun.  We will finish a painting that you can take home.  We will even supply all the materials so you can try watercolor techniques before investing in supplies. \n\n\n\nAges 17 and up. \n\n\n\n\nRegister\n\n\n\n\n\n\n\n\n\n\n\n\n\n\nDetails\n\n\n\n\n\n\n\n\n\n\n\n\n\n\n\n\n\n\n\n\n\nDate & Time: \n\n\n\n\n\n\n\n\n\n\n\nInstructor
URL:https://www.dfac.org/class/w-pt597-introduction-to-watercolor-with-kerry-stratton-waltz-4/
CATEGORIES:Adult Workshops
ATTACH;FMTTYPE=image/jpeg:https://www.dfac.org/wp-content/uploads/2025/06/W-PT597-Introduction-to-Watercolor.jpg
END:VEVENT
BEGIN:VEVENT
DTSTART;TZID=America/New_York:20261017T123000
DTEND;TZID=America/New_York:20261017T153000
DTSTAMP:20260422T170716
CREATED:20250610T140306Z
LAST-MODIFIED:20260406T155532Z
UID:10000219-1792240200-1792251000@www.dfac.org
SUMMARY:W-PT578 Wet Watercolor with Kerry Stratton Waltz
DESCRIPTION:All levels welcome!  \n\n\n\n\n\nThis one-day workshop will explore all the wonderful creative techniques that watercolor offers. Demonstrations\, individual attention\, and classroom discussions that will help you create loose\, impressionistic and expressive watercolors. We will learn how to plan for success by using the elements of design\, color theory\, and making painting plans. Enjoy the liquidity and spontaneity of watercolor. \n\n\n\nAges 17 and up. \n\n\n\nClick Here for Supply List\nWatercolor Supply List \n\n\n\nWatercolor Paper : 140 lb. 100% cotton handmade paper (Arches) cold press. I prefer the sheet form which comes in 22×30” which can be cut down to four ¼ sheets which is a good size for class work. \n\n\n\nBrushes : watercolor brushes are soft and made of sable\, squirrel\, ox hair\, and many synthetics. The most important quality of the brush is that it springs back to shape when wet. Please bring at least one of each of the following brushes: 1” Flat Brush\, #8 Round Brush\, #3 Rigger Brush (thin brush with long hairs). \n\n\n\nPaint : I prefer watercolor paint in tubes. There are many very good brands of paint but what is important is to have a warm and cool of each primary color. Grumbacher Academy is a good inexpensive student grade brand. \n\n\n\nCool \n\n\n\nWarm \n\n\n\nRed \n\n\n\nAlizarin Crimson \n\n\n\nCad Red Light or Vermillion \n\n\n\nBlue \n\n\n\nPrussian Blue \n\n\n\nUltramarine Blue \n\n\n\nYellow \n\n\n\nLemon or Cad Yellow Light \n\n\n\nCad Yellow Medium \n\n\n\nOther useful colors: Paynes Gray\, Burnt Sienna\, Burnt Umber\, Viridian\, Thalo Crimson (pink) \n\n\n\nPalette : any white palette with a good mixing area or a plastic white plate (not foam) \n\n\n\nBoard: This is support for your paper while you are painting so it should be waterproof. Size depends on size of paper and can be made of wood\, plexiglass\, Masonite or Gatorboard. \n\n\n\n2 water containers\, sponges\, papter towels\, tissues\, pencil\, kneaded eraser\, salt\, masking tape\, white crayon\, white copy paper to test color and brush strokes. \n\n\n\nIf you are new to watercolor bring what you have to class and I will help you get started. I have paper and some supplies that you can use. \n\n\n\n\n \n\n\n\n\nRegister\n\n\n\n\n\n\n\n\n\n\n\n\n\n\nDetails\n\n\n\n\n\n\n\n\n\n\n\n\n\n\n\n\n\n\n\n\n\nDate & Time: \n\n\n\n\n\n\n\n\n\n\n\nInstructor
URL:https://www.dfac.org/class/w-pt578-wet-watercolor-with-kerry-stratton-waltz-5/
CATEGORIES:Adult Workshops
ATTACH;FMTTYPE=image/jpeg:https://www.dfac.org/wp-content/uploads/2025/06/W-PT578-Wet-Watercolor.jpg
END:VEVENT
BEGIN:VEVENT
DTSTART;TZID=America/New_York:20261026T120000
DTEND;TZID=America/New_York:20261026T150000
DTSTAMP:20260422T170716
CREATED:20250606T193923Z
LAST-MODIFIED:20260402T144425Z
UID:10000169-1793016000-1793026800@www.dfac.org
SUMMARY:PT582 Intermediate Watercolor With Kerry Stratton Waltz
DESCRIPTION:Mondays\, 6 Week ClassIntermediate\, Advanced \n\n\n\n\n\nEnjoy all the wonderful creative techniques that are unique to watercolor: how to control wet-into wet washes and use those creative techniques to express your subject. We will learn how to plan for success by using the elements of design\, color theory and painting plans. Emphasis will be on how to loosen up with wet into wet watercolor.  There will be daily demonstrations and plenty of individual attention. \n\n\n\nAges 17 and up. \n\n\n\nClick Here for Supply List\nWatercolor Paper \n\n\n\n140 lb. 100% cotton handmade paper (Arches)cold press. I prefer the sheet form which comes in 22×30” which can be cut down to four ¼ sheets which is a good size for class work. \n\n\n\nBrushes \n\n\n\nWatercolor brushes are soft and made of sable\, squirrel\, ox hair\, and many synthetics. The most important quality of the brush is that it springs back to shape when wet. \n\n\n\n1” Flat brush\, #8 Round\, #3 Rigger (thin brush with long hairs) \n\n\n\nPaint \n\n\n\nI prefer watercolor paint in tubes. There are many very good brands of paint but what is important is to have a warm and cool of each primary color. Grumbacher Academy is a good inexpensive student grade brand. \n\n\n\n CoolWarmRedAlizarin CrimsonCad Red Light or VermillionBluePrussian BlueUltramarine BlueYellowLemon or Cad Yellow LightCad Yellow Medium\n\n\n\nOther useful colors- Paynes Gray\, Burnt Sienna\, Burnt Umber\, Viridian\, Thalo Crimson (pink) \n\n\n\nPalette \n\n\n\nAny white palette with a good mixing area; can be a plastic white plate (not foam) \n\n\n\nBoard \n\n\n\nThis is support for your paper while you are painting so it should be waterproof. Size depends on size of paper and can be made of wood\, plexiglass\, Masonite\, Gatorboard. \n\n\n\nMiscellaneous \n\n\n\n2-water containers\, sponges\, paper towels\, tissue\, pencil\, kneaded eraser\, salt\, masking tape\, white crayon\, white copy paper to test color and brush strokes. \n\n\n\nIf you are new to watercolor\, bring what you have to class and I will help you get started. I have paper and some supplies that you can use. \n\n\n\n\n \n\n\n\n\nRegister\n\n\n\n\n\n\n\n\n\n\n\n\n\n\nDetails\n\n\n\n\n\n\n\n\n\n\n\n\n\n\n\n\n\n\n\n\n\nDate & Time: \n\n\n\n\n\n\n\n\n\n\n\nInstructor
URL:https://www.dfac.org/class/pt582-intermediate-watercolor-with-kerry-stratton-waltz-3/
CATEGORIES:Adult Classes
ATTACH;FMTTYPE=image/jpeg:https://www.dfac.org/wp-content/uploads/2025/06/PT582-Intermediate-Watercolor.jpg
END:VEVENT
BEGIN:VEVENT
DTSTART;TZID=America/New_York:20261029T123000
DTEND;TZID=America/New_York:20261029T153000
DTSTAMP:20260422T170716
CREATED:20250606T194602Z
LAST-MODIFIED:20260402T143317Z
UID:10000172-1793277000-1793287800@www.dfac.org
SUMMARY:PT579 Beginning Watercolor With Kerry Stratton Waltz
DESCRIPTION:Thursday\, 6 Week ClassBeginner\, Intermediate  \n\n\n\n\n\nNew to watercolor? This class will lead you through everything you need to know to get started in watercolor. We will complete a painting each week that will focus on basic techniques and explore a variety of subject matter. No prior experience needed\, just a few supplies and a desire to have FUN! \n\n\n\nAges 17 and up. \n\n\n\nClick Here for Supply List\n \n\n\n\n\n \n\n\n\n\nRegister\n\n\n\n\n\n\n\n\n\n\n\n\n\n\nDetails\n\n\n\n\n\n\n\n\n\n\n\n\n\n\n\n\n\n\n\n\n\nDate & Time: \n\n\n\n\n\n\n\n\n\n\n\nInstructor
URL:https://www.dfac.org/class/pt579-beginning-watercolor-with-kerry-stratton-waltz-3/
CATEGORIES:Adult Classes
ATTACH;FMTTYPE=image/jpeg:https://www.dfac.org/wp-content/uploads/2025/06/PT579-Beginning-Watercolor.jpg
END:VEVENT
BEGIN:VEVENT
DTSTART;TZID=America/New_York:20261030T100000
DTEND;TZID=America/New_York:20261030T130000
DTSTAMP:20260422T170716
CREATED:20250606T195358Z
LAST-MODIFIED:20260402T145230Z
UID:10000175-1793354400-1793365200@www.dfac.org
SUMMARY:PT583 Creative Techniques in Watercolor With Kerry Stratton Waltz
DESCRIPTION:Fridays\, 6 Week ClassAll levels welcome! \n\n\n\n\n\nThis class will focus on using experimental techniques to create special effects in watercolor.  We will focus on color theory\, strong composition\, value control and unique techniques to create strong paintings.  We will be using a variety of watermedia materials such as; gouache\, acrylic\, gesso and water-soluble inks\, pencils and crayons. No experience is needed but must have a desire to experiment. \n\n\n\n\nRegister\n\n\n\n\n\n\n\n\n\n\n\n\n\n\nDetails\n\n\n\n\n\n\n\n\n\n\n\n\n\n\n\n\n\n\n\n\n\nDate & Time: \n\n\n\n\n\n\n\n\n\n\n\nInstructor
URL:https://www.dfac.org/class/pt583-creative-techniques-in-watercolor-with-kerry-stratton-waltz-3/
CATEGORIES:Adult Classes
ATTACH;FMTTYPE=image/jpeg:https://www.dfac.org/wp-content/uploads/2025/06/PT583-Creative-Techniques-in-Watercolor.jpg
END:VEVENT
BEGIN:VEVENT
DTSTART;TZID=America/New_York:20261114T123000
DTEND;TZID=America/New_York:20261114T153000
DTSTAMP:20260422T170716
CREATED:20251103T153331Z
LAST-MODIFIED:20260406T151934Z
UID:10000384-1794659400-1794670200@www.dfac.org
SUMMARY:W-PT597 Introduction to Watercolor with Kerry Stratton Waltz
DESCRIPTION:All levels welcome!  \n\n\n\n\n\nThis class is a brief introduction to watercolors for beginners.  No prior experience needed\, just a desire to have fun.  We will finish a painting that you can take home.  We will even supply all the materials so you can try watercolor techniques before investing in supplies. \n\n\n\nAges 17 and up. \n\n\n\n\nRegister\n\n\n\n\n\n\n\n\n\n\n\n\n\n\nDetails\n\n\n\n\n\n\n\n\n\n\n\n\n\n\n\n\n\n\n\n\n\nDate & Time: \n\n\n\n\n\n\n\n\n\n\n\nInstructor
URL:https://www.dfac.org/class/w-pt597-introduction-to-watercolor-with-kerry-stratton-waltz-5/
CATEGORIES:Adult Workshops
ATTACH;FMTTYPE=image/jpeg:https://www.dfac.org/wp-content/uploads/2025/06/W-PT597-Introduction-to-Watercolor.jpg
END:VEVENT
BEGIN:VEVENT
DTSTART;TZID=America/New_York:20261121T123000
DTEND;TZID=America/New_York:20261121T153000
DTSTAMP:20260422T170716
CREATED:20250610T140426Z
LAST-MODIFIED:20260406T155738Z
UID:10000220-1795264200-1795275000@www.dfac.org
SUMMARY:W-PT578 Wet Watercolor with Kerry Stratton Waltz
DESCRIPTION:All levels welcome!  \n\n\n\n\n\nThis one-day workshop will explore all the wonderful creative techniques that watercolor offers. Demonstrations\, individual attention\, and classroom discussions that will help you create loose\, impressionistic and expressive watercolors. We will learn how to plan for success by using the elements of design\, color theory\, and making painting plans. Enjoy the liquidity and spontaneity of watercolor. \n\n\n\nAges 17 and up. \n\n\n\nClick Here for Supply List\nWatercolor Supply List \n\n\n\nWatercolor Paper : 140 lb. 100% cotton handmade paper (Arches) cold press. I prefer the sheet form which comes in 22×30” which can be cut down to four ¼ sheets which is a good size for class work. \n\n\n\nBrushes : watercolor brushes are soft and made of sable\, squirrel\, ox hair\, and many synthetics. The most important quality of the brush is that it springs back to shape when wet. Please bring at least one of each of the following brushes: 1” Flat Brush\, #8 Round Brush\, #3 Rigger Brush (thin brush with long hairs). \n\n\n\nPaint : I prefer watercolor paint in tubes. There are many very good brands of paint but what is important is to have a warm and cool of each primary color. Grumbacher Academy is a good inexpensive student grade brand. \n\n\n\nCool \n\n\n\nWarm \n\n\n\nRed \n\n\n\nAlizarin Crimson \n\n\n\nCad Red Light or Vermillion \n\n\n\nBlue \n\n\n\nPrussian Blue \n\n\n\nUltramarine Blue \n\n\n\nYellow \n\n\n\nLemon or Cad Yellow Light \n\n\n\nCad Yellow Medium \n\n\n\nOther useful colors: Paynes Gray\, Burnt Sienna\, Burnt Umber\, Viridian\, Thalo Crimson (pink) \n\n\n\nPalette : any white palette with a good mixing area or a plastic white plate (not foam) \n\n\n\nBoard: This is support for your paper while you are painting so it should be waterproof. Size depends on size of paper and can be made of wood\, plexiglass\, Masonite or Gatorboard. \n\n\n\n2 water containers\, sponges\, papter towels\, tissues\, pencil\, kneaded eraser\, salt\, masking tape\, white crayon\, white copy paper to test color and brush strokes. \n\n\n\nIf you are new to watercolor bring what you have to class and I will help you get started. I have paper and some supplies that you can use. \n\n\n\n\n \n\n\n\n\nRegister\n\n\n\n\n\n\n\n\n\n\n\n\n\n\nDetails\n\n\n\n\n\n\n\n\n\n\n\n\n\n\n\n\n\n\n\n\n\nDate & Time: \n\n\n\n\n\n\n\n\n\n\n\nInstructor
URL:https://www.dfac.org/class/w-pt578-wet-watercolor-with-kerry-stratton-waltz-6/
CATEGORIES:Adult Workshops
ATTACH;FMTTYPE=image/jpeg:https://www.dfac.org/wp-content/uploads/2025/06/W-PT578-Wet-Watercolor.jpg
END:VEVENT
BEGIN:VEVENT
DTSTART;TZID=America/New_York:20261212T123000
DTEND;TZID=America/New_York:20261212T153000
DTSTAMP:20260422T170716
CREATED:20251107T194155Z
LAST-MODIFIED:20260406T152423Z
UID:10000380-1797078600-1797089400@www.dfac.org
SUMMARY:W-PT597 Introduction to Watercolor with Kerry Stratton Waltz
DESCRIPTION:All levels welcome!  \n\n\n\n\n\nThis class is a brief introduction to watercolors for beginners.  No prior experience needed\, just a desire to have fun.  We will finish a painting that you can take home.  We will even supply all the materials so you can try watercolor techniques before investing in supplies. \n\n\n\nAges 17 and up. \n\n\n\n\nRegister\n\n\n\n\n\n\n\n\n\n\n\n\n\n\nDetails\n\n\n\n\n\n\n\n\n\n\n\n\n\n\n\n\n\n\n\n\n\nDate & Time: \n\n\n\n\n\n\n\n\n\n\n\nInstructor
URL:https://www.dfac.org/class/w-pt597-introduction-to-watercolor-with-kerry-stratton-waltz-6/
CATEGORIES:Adult Workshops
ATTACH;FMTTYPE=image/jpeg:https://www.dfac.org/wp-content/uploads/2025/06/W-PT597-Introduction-to-Watercolor.jpg
END:VEVENT
END:VCALENDAR