BEGIN:VCALENDAR
VERSION:2.0
PRODID:-//Dunedin Fine Art Center - ECPv6.15.15//NONSGML v1.0//EN
CALSCALE:GREGORIAN
METHOD:PUBLISH
X-WR-CALNAME:Dunedin Fine Art Center
X-ORIGINAL-URL:https://www.dfac.org
X-WR-CALDESC:Events for Dunedin Fine Art Center
REFRESH-INTERVAL;VALUE=DURATION:PT1H
X-Robots-Tag:noindex
X-PUBLISHED-TTL:PT1H
BEGIN:VTIMEZONE
TZID:America/New_York
BEGIN:DAYLIGHT
TZOFFSETFROM:-0500
TZOFFSETTO:-0400
TZNAME:EDT
DTSTART:20250309T070000
END:DAYLIGHT
BEGIN:STANDARD
TZOFFSETFROM:-0400
TZOFFSETTO:-0500
TZNAME:EST
DTSTART:20251102T060000
END:STANDARD
BEGIN:DAYLIGHT
TZOFFSETFROM:-0500
TZOFFSETTO:-0400
TZNAME:EDT
DTSTART:20260308T070000
END:DAYLIGHT
BEGIN:STANDARD
TZOFFSETFROM:-0400
TZOFFSETTO:-0500
TZNAME:EST
DTSTART:20261101T060000
END:STANDARD
BEGIN:DAYLIGHT
TZOFFSETFROM:-0500
TZOFFSETTO:-0400
TZNAME:EDT
DTSTART:20270314T070000
END:DAYLIGHT
BEGIN:STANDARD
TZOFFSETFROM:-0400
TZOFFSETTO:-0500
TZNAME:EST
DTSTART:20271107T060000
END:STANDARD
END:VTIMEZONE
BEGIN:VEVENT
DTSTART;TZID=America/New_York:20260329T140000
DTEND;TZID=America/New_York:20260329T153000
DTSTAMP:20260420T061032
CREATED:20260304T162042Z
LAST-MODIFIED:20260320T191302Z
UID:10000590-1774792800-1774798200@www.dfac.org
SUMMARY:W-AT216 James McNeill Whistler: Master Painter - Maverick Modernist with Dee Kilgo
DESCRIPTION:All levels welcome!  \n\n\n\n\n\nJames McNeill Whistler (1834 – 1903) was more than the painter of a famous mother. In Victorian London\, he scandalized critics\, championed “art for art’s sake\,” and crafted some of the most radical and exquisite paintings of the nineteenth century.  Dee’s lecture offers an engaging overview of his art\, his tumultuous career\, and his unique contributions to modernism. \n\n\n\n\nRegister\n\n\n\n\n\n\n\n\n\n\n\n\n\n\n\n\nDetails\n\n\n\n\n\n\n\n\n\n\n\n\n\n\n\n\n\n\n\n\n\nDate & Time: \n\n\n\n\n\n\n\n\n\n\n\nInstructor
URL:https://www.dfac.org/class/w-at216-james-mcneill-whistler-master-painter-maverick-modernist-with-dee-kilgo/
CATEGORIES:Adult Workshops
ATTACH;FMTTYPE=image/jpeg:https://www.dfac.org/wp-content/uploads/2026/03/Whistlers_Mother_high_res.jpg
END:VEVENT
BEGIN:VEVENT
DTSTART;TZID=America/New_York:20260225T183000
DTEND;TZID=America/New_York:20260225T200000
DTSTAMP:20260420T061032
CREATED:20260127T133219Z
LAST-MODIFIED:20260127T190027Z
UID:10000583-1772044200-1772049600@www.dfac.org
SUMMARY:W-AT214 Gustave Courbet:  Realism and the Origins of Modernism with Dee Kilgo
DESCRIPTION:All levels welcome!  \n\n\n\n\n\nFrench artist Gustave Courbet (1819–1877) didn’t just paint pictures — he picked fights with tradition and changed the course of art. Dee’s lecture explores how Courbet\, taunted as “the artist-apostle of ugliness\,” became the leader of the Realist art movement in the 1850s. You’ll meet Courbet the provocateur: outspoken\, arrogant\, and fond of scandal\, whose paintings sparked outrage and heated debate. His images that were once hidden for their blatant eroticism are still shocking today. \n\n\n\n\nRegister\n\n\n\n\n\n\n\n\n\n\n\n\n\n\n\n\nDetails\n\n\n\n\n\n\n\n\n\n\n\n\n\n\n\n\n\n\n\n\n\nDate & Time: \n\n\n\n\n\n\n\n\n\n\n\nInstructor
URL:https://www.dfac.org/class/w-at214-gustave-courbet-realism-and-the-origins-of-modernism-with-dee-kilgo/
CATEGORIES:Adult Workshops
ATTACH;FMTTYPE=image/jpeg:https://www.dfac.org/wp-content/uploads/2026/01/Gustave_Courbet_027-1-scaled.jpg
END:VEVENT
BEGIN:VEVENT
DTSTART;TZID=America/New_York:20260125T130000
DTEND;TZID=America/New_York:20260125T143000
DTSTAMP:20260420T061032
CREATED:20251231T130918Z
LAST-MODIFIED:20260107T171511Z
UID:10000579-1769346000-1769351400@www.dfac.org
SUMMARY:W-AT215 Decoding the Mona Lisa with Dee Kilgo
DESCRIPTION:All levels welcome!  \n\n\n\n\n\nDecoding the Mona Lisa \n\n\n\nFor all of you who’ve wondered how the Mona Lisa portrait became the world’s most famous artwork… Dee’s talk tells the incredible story behind the creation of the painting and how its far-reaching innovations reflect Leonardo’s unique genius.  You’ll also learn about the bizarre circumstances that led to the painting’s unparalleled rise to fame.  It’s a fascinating\, fun\, and informative story full of surprises.  “With a few new twists\,” this is a repeat performance at member’s requests of Dee’s “decoding the Mona Lisa” talk at DFAC in 2024. \n\n\n\nExplore the remarkable\, the mysterious\, and the weirdly wonderful in art with Dee Kilgo\, Ph.D. art historian.  Dee’s knowledge and lively style make art history fun\, accessible\, and intriguing.   \n\n\n\nSeating is Limited.  All proceeds go to support the educational programs at DFAC. \n\n\n\n\nRegister\n\n\n\n\n\n\n\n\n\n\n\n\n\n\n\n\nDetails\n\n\n\n\n\n\n\n\n\n\n\n\n\n\n\n\n\n\n\n\n\nDate & Time: \n\n\n\n\n\n\n\n\n\n\n\nInstructor
URL:https://www.dfac.org/class/w-at215-decoding-the-mona-lisa-with-dee-kilgo/
CATEGORIES:Adult Workshops
ATTACH;FMTTYPE=image/jpeg:https://www.dfac.org/wp-content/uploads/2025/12/Mona-Lisa-sunglasses.jpeg
END:VEVENT
END:VCALENDAR