BEGIN:VCALENDAR
VERSION:2.0
PRODID:-//Dunedin Fine Art Center - ECPv6.15.15//NONSGML v1.0//EN
CALSCALE:GREGORIAN
METHOD:PUBLISH
X-WR-CALNAME:Dunedin Fine Art Center
X-ORIGINAL-URL:https://www.dfac.org
X-WR-CALDESC:Events for Dunedin Fine Art Center
REFRESH-INTERVAL;VALUE=DURATION:PT1H
X-Robots-Tag:noindex
X-PUBLISHED-TTL:PT1H
BEGIN:VTIMEZONE
TZID:America/New_York
BEGIN:DAYLIGHT
TZOFFSETFROM:-0500
TZOFFSETTO:-0400
TZNAME:EDT
DTSTART:20240310T070000
END:DAYLIGHT
BEGIN:STANDARD
TZOFFSETFROM:-0400
TZOFFSETTO:-0500
TZNAME:EST
DTSTART:20241103T060000
END:STANDARD
BEGIN:DAYLIGHT
TZOFFSETFROM:-0500
TZOFFSETTO:-0400
TZNAME:EDT
DTSTART:20250309T070000
END:DAYLIGHT
BEGIN:STANDARD
TZOFFSETFROM:-0400
TZOFFSETTO:-0500
TZNAME:EST
DTSTART:20251102T060000
END:STANDARD
BEGIN:DAYLIGHT
TZOFFSETFROM:-0500
TZOFFSETTO:-0400
TZNAME:EDT
DTSTART:20260308T070000
END:DAYLIGHT
BEGIN:STANDARD
TZOFFSETFROM:-0400
TZOFFSETTO:-0500
TZNAME:EST
DTSTART:20261101T060000
END:STANDARD
BEGIN:DAYLIGHT
TZOFFSETFROM:-0500
TZOFFSETTO:-0400
TZNAME:EDT
DTSTART:20270314T070000
END:DAYLIGHT
BEGIN:STANDARD
TZOFFSETFROM:-0400
TZOFFSETTO:-0500
TZNAME:EST
DTSTART:20271107T060000
END:STANDARD
END:VTIMEZONE
BEGIN:VEVENT
DTSTART;TZID=America/New_York:20260226T130000
DTEND;TZID=America/New_York:20260226T160000
DTSTAMP:20260420T063711
CREATED:20251107T203711Z
LAST-MODIFIED:20251107T203713Z
UID:10000360-1772110800-1772121600@www.dfac.org
SUMMARY:PT487 Contemporary Narrative Painting with Carol Dameron
DESCRIPTION:All levels welcome!  \n\n\n\n\n\nHow do artists put together a narrative painting today?  I will guide you\, step-by-step\, through the process of composing a story\, understating your message and effectively communicating it to the viewer. Learn to reference images\, photos and your imagination; find your style and vision. See you in class! \n\n\n\n\nRegister\n\n\n\n\n\n\n\n\n\n\n\n\n\n\nDetails\n\n\n\n\n\n\n\n\n\n\n\n\n\n\n\n\n\n\n\n\n\nDate & Time: \n\n\n\n\n\n\n\n\n\n\n\nInstructor
URL:https://www.dfac.org/class/pt487-contemporary-narrative-painting-with-carol-dameron-4/
CATEGORIES:Adult Classes
ATTACH;FMTTYPE=image/png:https://www.dfac.org/wp-content/uploads/2025/08/Carol-Dameron-PT487.png
END:VEVENT
BEGIN:VEVENT
DTSTART;TZID=America/New_York:20260226T090000
DTEND;TZID=America/New_York:20260226T120000
DTSTAMP:20260420T063711
CREATED:20251107T203542Z
LAST-MODIFIED:20251107T203543Z
UID:10000357-1772096400-1772107200@www.dfac.org
SUMMARY:PT486 The Secret Language of Painting with Carol Dameron
DESCRIPTION:All levels welcome!  \n\n\n\n\n\nThis is a building class that works together and everyone is welcome. We learn about the underlying substructure of a painting and how to balance and unify your work. We clarify color theory\, and better understand different types of brushwork and how to use them. Classical and modern principles are examined as part of the art continuum. If you want to paint better\, then I can help you. Please bring an image of object(s) from which to work; contact me if you aren’t sure.  See you in class! \n\n\n\n\nRegister\n\n\n\n\n\n\n\n\n\n\n\n\n\n\nDetails\n\n\n\n\n\n\n\n\n\n\n\n\n\n\n\n\n\n\n\n\n\nDate & Time: \n\n\n\n\n\n\n\n\n\n\n\nInstructor
URL:https://www.dfac.org/class/pt486-the-secret-language-of-painting-with-carol-dameron-4/
CATEGORIES:Adult Classes
ATTACH;FMTTYPE=image/png:https://www.dfac.org/wp-content/uploads/2025/08/Carol-Dameron-PT486.png
END:VEVENT
BEGIN:VEVENT
DTSTART;TZID=America/New_York:20251030T130000
DTEND;TZID=America/New_York:20251030T160000
DTSTAMP:20260420T063711
CREATED:20250826T145109Z
LAST-MODIFIED:20250828T194206Z
UID:10000286-1761829200-1761840000@www.dfac.org
SUMMARY:PT487 Contemporary Narrative Painting with Carol Dameron
DESCRIPTION:All levels welcome!  \n\n\n\n\n\nHow do artists put together a narrative painting today?  I will guide you\, step-by-step\, through the process of composing a story\, understating your message and effectively communicating it to the viewer. Learn to reference images\, photos and your imagination; find your style and vision. See you in class! \n\n\n\n\nRegister\n\n\n\n\n\n\n\n\n\n\n\n\n\n\nDetails\n\n\n\n\n\n\n\n\n\n\n\n\n\n\n\n\n\n\n\n\n\nDate & Time: \n\n\n\n\n\n\n\n\n\n\n\nInstructor
URL:https://www.dfac.org/class/pt487-contemporary-narrative-painting-with-carol-dameron-2/
CATEGORIES:Adult Classes
ATTACH;FMTTYPE=image/png:https://www.dfac.org/wp-content/uploads/2025/08/Carol-Dameron-PT487.png
END:VEVENT
BEGIN:VEVENT
DTSTART;TZID=America/New_York:20251030T090000
DTEND;TZID=America/New_York:20251030T120000
DTSTAMP:20260420T063711
CREATED:20250826T142502Z
LAST-MODIFIED:20250828T185436Z
UID:10000284-1761814800-1761825600@www.dfac.org
SUMMARY:PT486 The Secret Language of Painting with Carol Dameron
DESCRIPTION:All levels welcome!  \n\n\n\n\n\nThis is a building class that works together and everyone is welcome. We learn about the underlying substructure of a painting and how to balance and unify your work. We clarify color theory\, and better understand different types of brushwork and how to use them. Classical and modern principles are examined as part of the art continuum. If you want to paint better\, then I can help you. Please bring an image of object(s) from which to work; contact me if you aren’t sure.  See you in class! \n\n\n\n\nRegister\n\n\n\n\n\n\n\n\n\n\n\n\n\n\nDetails\n\n\n\n\n\n\n\n\n\n\n\n\n\n\n\n\n\n\n\n\n\nDate & Time: \n\n\n\n\n\n\n\n\n\n\n\nInstructor
URL:https://www.dfac.org/class/pt486-the-secret-language-of-painting-with-carol-dameron-2/
CATEGORIES:Adult Classes
ATTACH;FMTTYPE=image/png:https://www.dfac.org/wp-content/uploads/2025/08/Carol-Dameron-PT486.png
END:VEVENT
BEGIN:VEVENT
DTSTART;TZID=America/New_York:20250911T130000
DTEND;TZID=America/New_York:20250911T160000
DTSTAMP:20260420T063711
CREATED:20250826T144758Z
LAST-MODIFIED:20250828T185629Z
UID:10000285-1757595600-1757606400@www.dfac.org
SUMMARY:PT487 Contemporary Narrative Painting with Carol Dameron
DESCRIPTION:All levels welcome!  \n\n\n\n\n\nHow do artists put together a narrative painting today?  I will guide you\, step-by-step\, through the process of composing a story\, understating your message and effectively communicating it to the viewer. Learn to reference images\, photos and your imagination; find your style and vision. See you in class! \n\n\n\n \n\n\n\n\nRegister\n\n\n\n\n\n\n\n\n\n\n\n\n\n\nDetails\n\n\n\n\n\n\n\n\n\n\n\n\n\n\n\n\n\n\n\n\n\nDate & Time: \n\n\n\n\n\n\n\n\n\n\n\nInstructor
URL:https://www.dfac.org/class/pt487-contemporary-narrative-painting-with-carol-dameron/
CATEGORIES:Adult Classes
ATTACH;FMTTYPE=image/png:https://www.dfac.org/wp-content/uploads/2025/08/Carol-Dameron-PT487.png
END:VEVENT
BEGIN:VEVENT
DTSTART;TZID=America/New_York:20250911T090000
DTEND;TZID=America/New_York:20250911T120000
DTSTAMP:20260420T063711
CREATED:20250826T142058Z
LAST-MODIFIED:20250828T185912Z
UID:10000283-1757581200-1757592000@www.dfac.org
SUMMARY:PT486 The Secret Language of Painting with Carol Dameron
DESCRIPTION:All levels welcome!  \n\n\n\n\n\nThis is a building class that works together and everyone is welcome. We learn about the underlying substructure of a painting and how to balance and unify your work. We clarify color theory\, and better understand different types of brushwork and how to use them. Classical and modern principles are examined as part of the art continuum. If you want to paint better\, then I can help you. Please bring an image of object(s) from which to work; contact me if you aren’t sure.  See you in class! \n\n\n\n\nRegister\n\n\n\n\n\n\n\n\n\n\n\n\n\n\nDetails\n\n\n\n\n\n\n\n\n\n\n\n\n\n\n\n\n\n\n\n\n\nDate & Time: \n\n\n\n\n\n\n\n\n\n\n\nInstructor
URL:https://www.dfac.org/class/pt486-the-secret-language-of-painting-with-carol-dameron/
CATEGORIES:Adult Classes
ATTACH;FMTTYPE=image/png:https://www.dfac.org/wp-content/uploads/2025/08/Carol-Dameron-PT486.png
END:VEVENT
END:VCALENDAR