BEGIN:VCALENDAR
VERSION:2.0
PRODID:-//Dunedin Fine Art Center - ECPv6.15.15//NONSGML v1.0//EN
CALSCALE:GREGORIAN
METHOD:PUBLISH
X-WR-CALNAME:Dunedin Fine Art Center
X-ORIGINAL-URL:https://www.dfac.org
X-WR-CALDESC:Events for Dunedin Fine Art Center
REFRESH-INTERVAL;VALUE=DURATION:PT1H
X-Robots-Tag:noindex
X-PUBLISHED-TTL:PT1H
BEGIN:VTIMEZONE
TZID:America/New_York
BEGIN:DAYLIGHT
TZOFFSETFROM:-0500
TZOFFSETTO:-0400
TZNAME:EDT
DTSTART:20250309T070000
END:DAYLIGHT
BEGIN:STANDARD
TZOFFSETFROM:-0400
TZOFFSETTO:-0500
TZNAME:EST
DTSTART:20251102T060000
END:STANDARD
BEGIN:DAYLIGHT
TZOFFSETFROM:-0500
TZOFFSETTO:-0400
TZNAME:EDT
DTSTART:20260308T070000
END:DAYLIGHT
BEGIN:STANDARD
TZOFFSETFROM:-0400
TZOFFSETTO:-0500
TZNAME:EST
DTSTART:20261101T060000
END:STANDARD
BEGIN:DAYLIGHT
TZOFFSETFROM:-0500
TZOFFSETTO:-0400
TZNAME:EDT
DTSTART:20270314T070000
END:DAYLIGHT
BEGIN:STANDARD
TZOFFSETFROM:-0400
TZOFFSETTO:-0500
TZNAME:EST
DTSTART:20271107T060000
END:STANDARD
END:VTIMEZONE
BEGIN:VEVENT
DTSTART;TZID=America/New_York:20260602T090000
DTEND;TZID=America/New_York:20260602T120000
DTSTAMP:20260425T210417
CREATED:20250603T225336Z
LAST-MODIFIED:20260406T183111Z
UID:10000078-1780390800-1780401600@www.dfac.org
SUMMARY:CL126 Beginning Clay Handbuilding With Diane Abernathy
DESCRIPTION:Tuesdays\, 6 Week ClassBeginner \n\n\n\n\n\nIn this introductory class we will be exploring all the possibilities for clay handbuilding. Each week will be a new technique\, including slab\, coil\, and extruder. With these techniques we can explore tile making\, containers\, dinnerware and non-functional decorative pieces. Lastly you will be learning how to decorate you pieces with glaze and underglaze. \n\n\n\nAges 17 and up. \n\n\n\n\nRegister\n\n\n\n\n\n\n\n\n\n\n\n\n\n\nDetails\n\n\n\n\n\n\n\n\n\n\n\n\n\n\n\n\n\n\n\n\n\nDate & Time: \n\n\n\n\n\n\n\n\n\n\n\nInstructor
URL:https://www.dfac.org/class/cl126-beginning-clay-handbuilding-with-diane-abernathy/
CATEGORIES:Adult Classes
ATTACH;FMTTYPE=image/jpeg:https://www.dfac.org/wp-content/uploads/2025/06/CL126-Beginning-Clay-Handbuilding.jpg
END:VEVENT
BEGIN:VEVENT
DTSTART;TZID=America/New_York:20260714T090000
DTEND;TZID=America/New_York:20260714T120000
DTSTAMP:20260425T210417
CREATED:20260406T183246Z
LAST-MODIFIED:20260406T183247Z
UID:10000704-1784019600-1784030400@www.dfac.org
SUMMARY:CL126 Beginning Clay Handbuilding With Diane Abernathy
DESCRIPTION:Tuesdays\, 6 Week ClassBeginner \n\n\n\n\n\nIn this introductory class we will be exploring all the possibilities for clay handbuilding. Each week will be a new technique\, including slab\, coil\, and extruder. With these techniques we can explore tile making\, containers\, dinnerware and non-functional decorative pieces. Lastly you will be learning how to decorate you pieces with glaze and underglaze. \n\n\n\nAges 17 and up. \n\n\n\n\nRegister\n\n\n\n\n\n\n\n\n\n\n\n\n\n\nDetails\n\n\n\n\n\n\n\n\n\n\n\n\n\n\n\n\n\n\n\n\n\nDate & Time: \n\n\n\n\n\n\n\n\n\n\n\nInstructor
URL:https://www.dfac.org/class/cl126-beginning-clay-handbuilding-with-diane-abernathy-7/
CATEGORIES:Adult Classes
ATTACH;FMTTYPE=image/jpeg:https://www.dfac.org/wp-content/uploads/2025/06/CL126-Beginning-Clay-Handbuilding.jpg
END:VEVENT
BEGIN:VEVENT
DTSTART;TZID=America/New_York:20260908T090000
DTEND;TZID=America/New_York:20260908T120000
DTSTAMP:20260425T210417
CREATED:20250603T225918Z
LAST-MODIFIED:20260406T183355Z
UID:10000079-1788858000-1788868800@www.dfac.org
SUMMARY:CL126 Beginning Clay Handbuilding With Diane Abernathy
DESCRIPTION:Tuesdays\, 6 Week ClassBeginner \n\n\n\n\n\nIn this introductory class we will be exploring all the possibilities for clay handbuilding. Each week will be a new technique\, including slab\, coil\, and extruder. With these techniques we can explore tile making\, containers\, dinnerware and non-functional decorative pieces. Lastly you will be learning how to decorate you pieces with glaze and underglaze. \n\n\n\nAges 17 and up. \n\n\n\n\nRegister\n\n\n\n\n\n\n\n\n\n\n\n\n\n\nDetails\n\n\n\n\n\n\n\n\n\n\n\n\n\n\n\n\n\n\n\n\n\nDate & Time: \n\n\n\n\n\n\n\n\n\n\n\nInstructor
URL:https://www.dfac.org/class/cl126-beginning-clay-handbuilding-with-diane-abernathy-2/
CATEGORIES:Adult Classes
ATTACH;FMTTYPE=image/jpeg:https://www.dfac.org/wp-content/uploads/2025/06/CL126-Beginning-Clay-Handbuilding.jpg
END:VEVENT
BEGIN:VEVENT
DTSTART;TZID=America/New_York:20261027T090000
DTEND;TZID=America/New_York:20261027T120000
DTSTAMP:20260425T210417
CREATED:20250603T230038Z
LAST-MODIFIED:20260406T183530Z
UID:10000080-1793091600-1793102400@www.dfac.org
SUMMARY:CL126 Beginning Clay Handbuilding With Diane Abernathy
DESCRIPTION:Tuesdays\, 6 Week ClassBeginner \n\n\n\n\n\nIn this introductory class we will be exploring all the possibilities for clay handbuilding. Each week will be a new technique\, including slab\, coil\, and extruder. With these techniques we can explore tile making\, containers\, dinnerware and non-functional decorative pieces. Lastly you will be learning how to decorate you pieces with glaze and underglaze. \n\n\n\nAges 17 and up. \n\n\n\n\nRegister\n\n\n\n\n\n\n\n\n\n\n\n\n\n\nDetails\n\n\n\n\n\n\n\n\n\n\n\n\n\n\n\n\n\n\n\n\n\nDate & Time: \n\n\n\n\n\n\n\n\n\n\n\nInstructor
URL:https://www.dfac.org/class/cl126-beginning-clay-handbuilding-with-diane-abernathy-3/
CATEGORIES:Adult Classes
ATTACH;FMTTYPE=image/jpeg:https://www.dfac.org/wp-content/uploads/2025/06/CL126-Beginning-Clay-Handbuilding.jpg
END:VEVENT
END:VCALENDAR