BEGIN:VCALENDAR
VERSION:2.0
PRODID:-//Dunedin Fine Art Center - ECPv6.15.15//NONSGML v1.0//EN
CALSCALE:GREGORIAN
METHOD:PUBLISH
X-WR-CALNAME:Dunedin Fine Art Center
X-ORIGINAL-URL:https://www.dfac.org
X-WR-CALDESC:Events for Dunedin Fine Art Center
REFRESH-INTERVAL;VALUE=DURATION:PT1H
X-Robots-Tag:noindex
X-PUBLISHED-TTL:PT1H
BEGIN:VTIMEZONE
TZID:America/New_York
BEGIN:DAYLIGHT
TZOFFSETFROM:-0500
TZOFFSETTO:-0400
TZNAME:EDT
DTSTART:20250309T070000
END:DAYLIGHT
BEGIN:STANDARD
TZOFFSETFROM:-0400
TZOFFSETTO:-0500
TZNAME:EST
DTSTART:20251102T060000
END:STANDARD
BEGIN:DAYLIGHT
TZOFFSETFROM:-0500
TZOFFSETTO:-0400
TZNAME:EDT
DTSTART:20260308T070000
END:DAYLIGHT
BEGIN:STANDARD
TZOFFSETFROM:-0400
TZOFFSETTO:-0500
TZNAME:EST
DTSTART:20261101T060000
END:STANDARD
BEGIN:DAYLIGHT
TZOFFSETFROM:-0500
TZOFFSETTO:-0400
TZNAME:EDT
DTSTART:20270314T070000
END:DAYLIGHT
BEGIN:STANDARD
TZOFFSETFROM:-0400
TZOFFSETTO:-0500
TZNAME:EST
DTSTART:20271107T060000
END:STANDARD
END:VTIMEZONE
BEGIN:VEVENT
DTSTART;TZID=America/New_York:20260907T130000
DTEND;TZID=America/New_York:20260907T160000
DTSTAMP:20260419T101255
CREATED:20250606T140529Z
LAST-MODIFIED:20260406T191824Z
UID:10000137-1788786000-1788796800@www.dfac.org
SUMMARY:PT370 MONDAY Intuitive Acrylic Painting With Linda Feinstein
DESCRIPTION:Mondays\, 6 Week ClassMondays are geared to those new to the intuitive process \n\n\n\n\n\nHas your artwork lost its spark? Are you caught in the struggle of trying too hard\, feeling frustrated\, and surrounded by unfinished paintings? Let’s change that. This class is designed to bring back the joy\, ease\, and fun in your creative process. Let go of the pressure and rediscover why you fell in love with making art in the first place!” \n\n\n\n In this class\, you’ll tap into your intuition through guided prompts and exercises designed to reveal your true creative self. Together\, we’ll explore a variety of tools and techniques\, allowing you to develop your own unique artistic style. Activating your canvas and responding intuitively to its energy will be a central part of this transformative process. \n\n\n\nClick Here for Supply List\nCANVAS: Two canvas. Larger canvases work best for intuitive painting…no smaller than 24″x30″( 24″x36″ is my preference). I purchase my canvases at Michael’s when they are sale. If you are juststarting out\, I recommend “Level 2 Gallery Wrapped” (no canvas boards). \n\n\n\nACRYLIC PAINT: Fluid acrylic paints (not pouring or flowing paint) work best for intuitivepainting…we will be painting many layers and they dry quicker than heavy body paint. There are sometechniques that can’t be done without fluid acrylics. Liquitex Basic FLUIDS (they are in a bottle\, not atube) are affordable and a good place to start building your fluid paint arsenal!The basic colors you need: Yellow\, red\, blue\, green\, black\, white. These are good because we canmake many colors just by mixing these together. If you have more colors\, bring them! \n\n\n\nBRUSHES: Some long handle brushes\, but bring whatever you already have. There are more brushesin class for you to try. \n\n\n\nACRYLIC GLAZING MEDIUM: This is optional but very nice to have. It gives paint a smoothness andtransparency without watering it down. Any brand works.If you are new to intuitive painting\, don’t worry about all of the supplies listed as I will have lots! Justbe sure to have the canvases\, basic fluid acrylic colors\, and some brushes. I will provide a paintingpallet for you. \n\n\n\nOTHER HELPERS:• Baby wipes• Rags• Spray water bottle• Scissors• Drop cloth (Dollar Tree has blue plastic tarps in their tools section that work perfectly as adrop cloth.)• An apron or clothes you don’t mind getting paint on.• Paper towels \n\n\n\n\n \n\n\n\n\nRegister\n\n\n\n\n\n\n\n\n\n\n\n\n\n\nDetails\n\n\n\n\n\n\n\n\n\n\n\n\n\n\n\n\n\n\n\n\n\nDate & Time: \n\n\n\n\n\n\n\n\n\n\n\nInstructor
URL:https://www.dfac.org/class/pt370-monday-intuitive-acrylic-painting-with-linda-feinstein/
CATEGORIES:Adult Classes
ATTACH;FMTTYPE=image/jpeg:https://www.dfac.org/wp-content/uploads/2025/06/PT370-MONDAY-Intuitive-Acrylic-Painting.jpg
END:VEVENT
BEGIN:VEVENT
DTSTART;TZID=America/New_York:20260908T130000
DTEND;TZID=America/New_York:20260908T160000
DTSTAMP:20260419T101255
CREATED:20250606T140754Z
LAST-MODIFIED:20260406T191842Z
UID:10000138-1788872400-1788883200@www.dfac.org
SUMMARY:PT370 TUESDAY Intuitive Acrylic Painting With Linda Feinstein
DESCRIPTION:Tuesdays\, 6 Week ClassAll levels welcome! \n\n\n\n\n\nHas your artwork lost its spark? Are you caught in the struggle of trying too hard\, feeling frustrated\, and surrounded by unfinished paintings? Let’s change that. This class is designed to bring back the joy\, ease\, and fun in your creative process. Let go of the pressure and rediscover why you fell in love with making art in the first place!” \n\n\n\n In this class\, you’ll tap into your intuition through guided prompts and exercises designed to reveal your true creative self. Together\, we’ll explore a variety of tools and techniques\, allowing you to develop your own unique artistic style. Activating your canvas and responding intuitively to its energy will be a central part of this transformative process. \n\n\n\nClick Here for Supply List\nCANVAS: Two canvas. Larger canvases work best for intuitive painting…no smaller than 24″x30″( 24″x36″ is my preference). I purchase my canvases at Michael’s when they are sale. If you are juststarting out\, I recommend “Level 2 Gallery Wrapped” (no canvas boards). \n\n\n\nACRYLIC PAINT: Fluid acrylic paints (not pouring or flowing paint) work best for intuitivepainting…we will be painting many layers and they dry quicker than heavy body paint. There are sometechniques that can’t be done without fluid acrylics. Liquitex Basic FLUIDS (they are in a bottle\, not atube) are affordable and a good place to start building your fluid paint arsenal!The basic colors you need: Yellow\, red\, blue\, green\, black\, white. These are good because we canmake many colors just by mixing these together. If you have more colors\, bring them! \n\n\n\nBRUSHES: Some long handle brushes\, but bring whatever you already have. There are more brushesin class for you to try. \n\n\n\nACRYLIC GLAZING MEDIUM: This is optional but very nice to have. It gives paint a smoothness andtransparency without watering it down. Any brand works.If you are new to intuitive painting\, don’t worry about all of the supplies listed as I will have lots! Justbe sure to have the canvases\, basic fluid acrylic colors\, and some brushes. I will provide a paintingpallet for you. \n\n\n\nOTHER HELPERS:• Baby wipes• Rags• Spray water bottle• Scissors• Drop cloth (Dollar Tree has blue plastic tarps in their tools section that work perfectly as adrop cloth.)• An apron or clothes you don’t mind getting paint on.• Paper towels \n\n\n\n\n \n\n\n\n\nRegister\n\n\n\n\n\n\n\n\n\n\n\n\n\n\nDetails\n\n\n\n\n\n\n\n\n\n\n\n\n\n\n\n\n\n\n\n\n\nDate & Time: \n\n\n\n\n\n\n\n\n\n\n\nInstructor
URL:https://www.dfac.org/class/pt370-tuesday-intuitive-acrylic-painting-with-linda-feinstein/
CATEGORIES:Adult Classes
ATTACH;FMTTYPE=image/jpeg:https://www.dfac.org/wp-content/uploads/2025/06/PT370-MONDAY-Intuitive-Acrylic-Painting.jpg
END:VEVENT
BEGIN:VEVENT
DTSTART;TZID=America/New_York:20261026T130000
DTEND;TZID=America/New_York:20261026T160000
DTSTAMP:20260419T101255
CREATED:20250606T140941Z
LAST-MODIFIED:20260406T191859Z
UID:10000139-1793019600-1793030400@www.dfac.org
SUMMARY:PT370 MONDAY Intuitive Acrylic Painting With Linda Feinstein
DESCRIPTION:Mondays\, 6 Week Class \n\n\n\n\n\nHas your artwork lost its spark? Are you caught in the struggle of trying too hard\, feeling frustrated\, and surrounded by unfinished paintings? Let’s change that. This class is designed to bring back the joy\, ease\, and fun in your creative process. Let go of the pressure and rediscover why you fell in love with making art in the first place!” \n\n\n\n In this class\, you’ll tap into your intuition through guided prompts and exercises designed to reveal your true creative self. Together\, we’ll explore a variety of tools and techniques\, allowing you to develop your own unique artistic style. Activating your canvas and responding intuitively to its energy will be a central part of this transformative process. \n\n\n\nClick Here for Supply List\nCANVAS: Two canvas. Larger canvases work best for intuitive painting…no smaller than 24″x30″( 24″x36″ is my preference). I purchase my canvases at Michael’s when they are sale. If you are juststarting out\, I recommend “Level 2 Gallery Wrapped” (no canvas boards). \n\n\n\nACRYLIC PAINT: Fluid acrylic paints (not pouring or flowing paint) work best for intuitivepainting…we will be painting many layers and they dry quicker than heavy body paint. There are sometechniques that can’t be done without fluid acrylics. Liquitex Basic FLUIDS (they are in a bottle\, not atube) are affordable and a good place to start building your fluid paint arsenal!The basic colors you need: Yellow\, red\, blue\, green\, black\, white. These are good because we canmake many colors just by mixing these together. If you have more colors\, bring them! \n\n\n\nBRUSHES: Some long handle brushes\, but bring whatever you already have. There are more brushesin class for you to try. \n\n\n\nACRYLIC GLAZING MEDIUM: This is optional but very nice to have. It gives paint a smoothness andtransparency without watering it down. Any brand works.If you are new to intuitive painting\, don’t worry about all of the supplies listed as I will have lots! Justbe sure to have the canvases\, basic fluid acrylic colors\, and some brushes. I will provide a paintingpallet for you. \n\n\n\nOTHER HELPERS:• Baby wipes• Rags• Spray water bottle• Scissors• Drop cloth (Dollar Tree has blue plastic tarps in their tools section that work perfectly as adrop cloth.)• An apron or clothes you don’t mind getting paint on.• Paper towels \n\n\n\n\n \n\n\n\n\nRegister\n\n\n\n\n\n\n\n\n\n\n\n\n\n\nDetails\n\n\n\n\n\n\n\n\n\n\n\n\n\n\n\n\n\n\n\n\n\nDate & Time: \n\n\n\n\n\n\n\n\n\n\n\nInstructor
URL:https://www.dfac.org/class/pt370-monday-intuitive-acrylic-painting-with-linda-feinstein-2/
CATEGORIES:Adult Classes
ATTACH;FMTTYPE=image/jpeg:https://www.dfac.org/wp-content/uploads/2025/06/PT370-MONDAY-Intuitive-Acrylic-Painting.jpg
END:VEVENT
BEGIN:VEVENT
DTSTART;TZID=America/New_York:20261027T130000
DTEND;TZID=America/New_York:20261027T160000
DTSTAMP:20260419T101255
CREATED:20250606T141047Z
LAST-MODIFIED:20260330T185557Z
UID:10000140-1793106000-1793116800@www.dfac.org
SUMMARY:PT370 TUESDAY Intuitive Acrylic Painting With Linda Feinstein
DESCRIPTION:Tuesdays\, 6 Week ClassAll levels welcome! \n\n\n\n\n\nHas your artwork lost its spark? Are you caught in the struggle of trying too hard\, feeling frustrated\, and surrounded by unfinished paintings? Let’s change that. This class is designed to bring back the joy\, ease\, and fun in your creative process. Let go of the pressure and rediscover why you fell in love with making art in the first place!” \n\n\n\n In this class\, you’ll tap into your intuition through guided prompts and exercises designed to reveal your true creative self. Together\, we’ll explore a variety of tools and techniques\, allowing you to develop your own unique artistic style. Activating your canvas and responding intuitively to its energy will be a central part of this transformative process. \n\n\n\nClick Here for Supply List\nCANVAS: Two canvas. Larger canvases work best for intuitive painting…no smaller than 24″x30″( 24″x36″ is my preference). I purchase my canvases at Michael’s when they are sale. If you are juststarting out\, I recommend “Level 2 Gallery Wrapped” (no canvas boards). \n\n\n\nACRYLIC PAINT: Fluid acrylic paints (not pouring or flowing paint) work best for intuitivepainting…we will be painting many layers and they dry quicker than heavy body paint. There are sometechniques that can’t be done without fluid acrylics. Liquitex Basic FLUIDS (they are in a bottle\, not atube) are affordable and a good place to start building your fluid paint arsenal!The basic colors you need: Yellow\, red\, blue\, green\, black\, white. These are good because we canmake many colors just by mixing these together. If you have more colors\, bring them! \n\n\n\nBRUSHES: Some long handle brushes\, but bring whatever you already have. There are more brushesin class for you to try. \n\n\n\nACRYLIC GLAZING MEDIUM: This is optional but very nice to have. It gives paint a smoothness andtransparency without watering it down. Any brand works.If you are new to intuitive painting\, don’t worry about all of the supplies listed as I will have lots! Justbe sure to have the canvases\, basic fluid acrylic colors\, and some brushes. I will provide a paintingpallet for you. \n\n\n\nOTHER HELPERS:• Baby wipes• Rags• Spray water bottle• Scissors• Drop cloth (Dollar Tree has blue plastic tarps in their tools section that work perfectly as adrop cloth.)• An apron or clothes you don’t mind getting paint on.• Paper towels \n\n\n\n\n \n\n\n\n\nRegister\n\n\n\n\n\n\n\n\n\n\n\n\n\n\nDetails\n\n\n\n\n\n\n\n\n\n\n\n\n\n\n\n\n\n\n\n\n\nDate & Time: \n\n\n\n\n\n\n\n\n\n\n\nInstructor
URL:https://www.dfac.org/class/pt370-tuesday-intuitive-acrylic-painting-with-linda-feinstein-2/
CATEGORIES:Adult Classes
ATTACH;FMTTYPE=image/jpeg:https://www.dfac.org/wp-content/uploads/2025/06/PT370-MONDAY-Intuitive-Acrylic-Painting.jpg
END:VEVENT
END:VCALENDAR