BEGIN:VCALENDAR
VERSION:2.0
PRODID:-//Dunedin Fine Art Center - ECPv6.15.15//NONSGML v1.0//EN
CALSCALE:GREGORIAN
METHOD:PUBLISH
X-WR-CALNAME:Dunedin Fine Art Center
X-ORIGINAL-URL:https://www.dfac.org
X-WR-CALDESC:Events for Dunedin Fine Art Center
REFRESH-INTERVAL;VALUE=DURATION:PT1H
X-Robots-Tag:noindex
X-PUBLISHED-TTL:PT1H
BEGIN:VTIMEZONE
TZID:America/New_York
BEGIN:DAYLIGHT
TZOFFSETFROM:-0500
TZOFFSETTO:-0400
TZNAME:EDT
DTSTART:20250309T070000
END:DAYLIGHT
BEGIN:STANDARD
TZOFFSETFROM:-0400
TZOFFSETTO:-0500
TZNAME:EST
DTSTART:20251102T060000
END:STANDARD
BEGIN:DAYLIGHT
TZOFFSETFROM:-0500
TZOFFSETTO:-0400
TZNAME:EDT
DTSTART:20260308T070000
END:DAYLIGHT
BEGIN:STANDARD
TZOFFSETFROM:-0400
TZOFFSETTO:-0500
TZNAME:EST
DTSTART:20261101T060000
END:STANDARD
BEGIN:DAYLIGHT
TZOFFSETFROM:-0500
TZOFFSETTO:-0400
TZNAME:EDT
DTSTART:20270314T070000
END:DAYLIGHT
BEGIN:STANDARD
TZOFFSETFROM:-0400
TZOFFSETTO:-0500
TZNAME:EST
DTSTART:20271107T060000
END:STANDARD
END:VTIMEZONE
BEGIN:VEVENT
DTSTART;TZID=America/New_York:20260508T120000
DTEND;TZID=America/New_York:20260508T160000
DTSTAMP:20260422T094600
CREATED:20251107T142633Z
LAST-MODIFIED:20251107T142635Z
UID:10000307-1778241600-1778256000@www.dfac.org
SUMMARY:W-AM101 Artwork Archive: Master Your Art Management With Evelyn Dufner
DESCRIPTION:All levels welcome! (*But some basic computer knowledge required.) \n\n\n\n\n\nFeeling overwhelmed by managing your artwork? This hands-on workshop introduces you to Artwork Archive\, a powerful cloud-based software tool designed to streamline your collection!  Learn to photograph your work\, determine fair pricing strategies\, and curate stunning online exhibitions. Discover how to generate presentation-ready cut sheets\, labels\, and portfolio pages. We’ll even show you how to showcase your collection directly on your website and build a collector list. No prior experience necessary! Perfect for artists of all ages and skill levels. \n\n\n\n\nRegister\n\n\n\n\n\n\n\n\n\n\n\n\n\n\nDetails\n\n\n\n\n\n\n\n\n\n\n\n\n\n\n\n\n\n\n\n\n\nDate & Time: \n\n\n\n\n\n\n\n\n\n\n\nInstructor
URL:https://www.dfac.org/class/w-am101-artwork-archive-master-your-art-management-with-evelyn-dufner-5/
CATEGORIES:Adult Workshops
ATTACH;FMTTYPE=image/jpeg:https://www.dfac.org/wp-content/uploads/2025/06/W-AM101-Artwork-Archive-Master-Your-Art-Management.jpg
END:VEVENT
BEGIN:VEVENT
DTSTART;TZID=America/New_York:20260605T120000
DTEND;TZID=America/New_York:20260605T160000
DTSTAMP:20260422T094600
CREATED:20260324T144419Z
LAST-MODIFIED:20260324T144421Z
UID:10000598-1780660800-1780675200@www.dfac.org
SUMMARY:W-AM101 Artwork Archive: Master Your Art Management With Evelyn Dufner
DESCRIPTION:All levels welcome! (*But some basic computer knowledge required.) \n\n\n\n\n\nFeeling overwhelmed by managing your artwork? This hands-on workshop introduces you to Artwork Archive\, a powerful cloud-based software tool designed to streamline your collection!  Learn to photograph your work\, determine fair pricing strategies\, and curate stunning online exhibitions. Discover how to generate presentation-ready cut sheets\, labels\, and portfolio pages. We’ll even show you how to showcase your collection directly on your website and build a collector list. No prior experience necessary! Perfect for artists of all ages and skill levels. \n\n\n\n\nRegister\n\n\n\n\n\n\n\n\n\n\n\n\n\n\nDetails\n\n\n\n\n\n\n\n\n\n\n\n\n\n\n\n\n\n\n\n\n\nDate & Time: \n\n\n\n\n\n\n\n\n\n\n\nInstructor
URL:https://www.dfac.org/class/w-am101-artwork-archive-master-your-art-management-with-evelyn-dufner-8/
CATEGORIES:Adult Workshops
ATTACH;FMTTYPE=image/jpeg:https://www.dfac.org/wp-content/uploads/2025/06/W-AM101-Artwork-Archive-Master-Your-Art-Management.jpg
END:VEVENT
BEGIN:VEVENT
DTSTART;TZID=America/New_York:20260911T120000
DTEND;TZID=America/New_York:20260911T160000
DTSTAMP:20260422T094600
CREATED:20260324T144552Z
LAST-MODIFIED:20260324T144553Z
UID:10000599-1789128000-1789142400@www.dfac.org
SUMMARY:W-AM101 Artwork Archive: Master Your Art Management With Evelyn Dufner
DESCRIPTION:All levels welcome! (*But some basic computer knowledge required.) \n\n\n\n\n\nFeeling overwhelmed by managing your artwork? This hands-on workshop introduces you to Artwork Archive\, a powerful cloud-based software tool designed to streamline your collection!  Learn to photograph your work\, determine fair pricing strategies\, and curate stunning online exhibitions. Discover how to generate presentation-ready cut sheets\, labels\, and portfolio pages. We’ll even show you how to showcase your collection directly on your website and build a collector list. No prior experience necessary! Perfect for artists of all ages and skill levels. \n\n\n\n\nRegister\n\n\n\n\n\n\n\n\n\n\n\n\n\n\nDetails\n\n\n\n\n\n\n\n\n\n\n\n\n\n\n\n\n\n\n\n\n\nDate & Time: \n\n\n\n\n\n\n\n\n\n\n\nInstructor
URL:https://www.dfac.org/class/w-am101-artwork-archive-master-your-art-management-with-evelyn-dufner-9/
CATEGORIES:Adult Workshops
ATTACH;FMTTYPE=image/jpeg:https://www.dfac.org/wp-content/uploads/2025/06/W-AM101-Artwork-Archive-Master-Your-Art-Management.jpg
END:VEVENT
BEGIN:VEVENT
DTSTART;TZID=America/New_York:20261008T120000
DTEND;TZID=America/New_York:20261008T160000
DTSTAMP:20260422T094600
CREATED:20260324T144821Z
LAST-MODIFIED:20260324T144822Z
UID:10000600-1791460800-1791475200@www.dfac.org
SUMMARY:W-AM101 Artwork Archive: Master Your Art Management With Evelyn Dufner
DESCRIPTION:All levels welcome! (*But some basic computer knowledge required.) \n\n\n\n\n\nFeeling overwhelmed by managing your artwork? This hands-on workshop introduces you to Artwork Archive\, a powerful cloud-based software tool designed to streamline your collection!  Learn to photograph your work\, determine fair pricing strategies\, and curate stunning online exhibitions. Discover how to generate presentation-ready cut sheets\, labels\, and portfolio pages. We’ll even show you how to showcase your collection directly on your website and build a collector list. No prior experience necessary! Perfect for artists of all ages and skill levels. \n\n\n\n\nRegister\n\n\n\n\n\n\n\n\n\n\n\n\n\n\nDetails\n\n\n\n\n\n\n\n\n\n\n\n\n\n\n\n\n\n\n\n\n\nDate & Time: \n\n\n\n\n\n\n\n\n\n\n\nInstructor
URL:https://www.dfac.org/class/w-am101-artwork-archive-master-your-art-management-with-evelyn-dufner-10/
CATEGORIES:Adult Workshops
ATTACH;FMTTYPE=image/jpeg:https://www.dfac.org/wp-content/uploads/2025/06/W-AM101-Artwork-Archive-Master-Your-Art-Management.jpg
END:VEVENT
BEGIN:VEVENT
DTSTART;TZID=America/New_York:20261106T120000
DTEND;TZID=America/New_York:20261106T160000
DTSTAMP:20260422T094600
CREATED:20260324T144925Z
LAST-MODIFIED:20260324T144927Z
UID:10000601-1793966400-1793980800@www.dfac.org
SUMMARY:W-AM101 Artwork Archive: Master Your Art Management With Evelyn Dufner
DESCRIPTION:All levels welcome! (*But some basic computer knowledge required.) \n\n\n\n\n\nFeeling overwhelmed by managing your artwork? This hands-on workshop introduces you to Artwork Archive\, a powerful cloud-based software tool designed to streamline your collection!  Learn to photograph your work\, determine fair pricing strategies\, and curate stunning online exhibitions. Discover how to generate presentation-ready cut sheets\, labels\, and portfolio pages. We’ll even show you how to showcase your collection directly on your website and build a collector list. No prior experience necessary! Perfect for artists of all ages and skill levels. \n\n\n\n\nRegister\n\n\n\n\n\n\n\n\n\n\n\n\n\n\nDetails\n\n\n\n\n\n\n\n\n\n\n\n\n\n\n\n\n\n\n\n\n\nDate & Time: \n\n\n\n\n\n\n\n\n\n\n\nInstructor
URL:https://www.dfac.org/class/w-am101-artwork-archive-master-your-art-management-with-evelyn-dufner-11/
CATEGORIES:Adult Workshops
ATTACH;FMTTYPE=image/jpeg:https://www.dfac.org/wp-content/uploads/2025/06/W-AM101-Artwork-Archive-Master-Your-Art-Management.jpg
END:VEVENT
BEGIN:VEVENT
DTSTART;TZID=America/New_York:20261204T120000
DTEND;TZID=America/New_York:20261204T160000
DTSTAMP:20260422T094600
CREATED:20260324T145025Z
LAST-MODIFIED:20260324T145028Z
UID:10000602-1796385600-1796400000@www.dfac.org
SUMMARY:W-AM101 Artwork Archive: Master Your Art Management With Evelyn Dufner
DESCRIPTION:All levels welcome! (*But some basic computer knowledge required.) \n\n\n\n\n\nFeeling overwhelmed by managing your artwork? This hands-on workshop introduces you to Artwork Archive\, a powerful cloud-based software tool designed to streamline your collection!  Learn to photograph your work\, determine fair pricing strategies\, and curate stunning online exhibitions. Discover how to generate presentation-ready cut sheets\, labels\, and portfolio pages. We’ll even show you how to showcase your collection directly on your website and build a collector list. No prior experience necessary! Perfect for artists of all ages and skill levels. \n\n\n\n\nRegister\n\n\n\n\n\n\n\n\n\n\n\n\n\n\nDetails\n\n\n\n\n\n\n\n\n\n\n\n\n\n\n\n\n\n\n\n\n\nDate & Time: \n\n\n\n\n\n\n\n\n\n\n\nInstructor
URL:https://www.dfac.org/class/w-am101-artwork-archive-master-your-art-management-with-evelyn-dufner-12/
CATEGORIES:Adult Workshops
ATTACH;FMTTYPE=image/jpeg:https://www.dfac.org/wp-content/uploads/2025/06/W-AM101-Artwork-Archive-Master-Your-Art-Management.jpg
END:VEVENT
END:VCALENDAR