BEGIN:VCALENDAR
VERSION:2.0
PRODID:-//Dunedin Fine Art Center - ECPv6.15.15//NONSGML v1.0//EN
CALSCALE:GREGORIAN
METHOD:PUBLISH
X-WR-CALNAME:Dunedin Fine Art Center
X-ORIGINAL-URL:https://www.dfac.org
X-WR-CALDESC:Events for Dunedin Fine Art Center
REFRESH-INTERVAL;VALUE=DURATION:PT1H
X-Robots-Tag:noindex
X-PUBLISHED-TTL:PT1H
BEGIN:VTIMEZONE
TZID:America/New_York
BEGIN:DAYLIGHT
TZOFFSETFROM:-0500
TZOFFSETTO:-0400
TZNAME:EDT
DTSTART:20250309T070000
END:DAYLIGHT
BEGIN:STANDARD
TZOFFSETFROM:-0400
TZOFFSETTO:-0500
TZNAME:EST
DTSTART:20251102T060000
END:STANDARD
BEGIN:DAYLIGHT
TZOFFSETFROM:-0500
TZOFFSETTO:-0400
TZNAME:EDT
DTSTART:20260308T070000
END:DAYLIGHT
BEGIN:STANDARD
TZOFFSETFROM:-0400
TZOFFSETTO:-0500
TZNAME:EST
DTSTART:20261101T060000
END:STANDARD
BEGIN:DAYLIGHT
TZOFFSETFROM:-0500
TZOFFSETTO:-0400
TZNAME:EDT
DTSTART:20270314T070000
END:DAYLIGHT
BEGIN:STANDARD
TZOFFSETFROM:-0400
TZOFFSETTO:-0500
TZNAME:EST
DTSTART:20271107T060000
END:STANDARD
END:VTIMEZONE
BEGIN:VEVENT
DTSTART;TZID=America/New_York:20260926T130000
DTEND;TZID=America/New_York:20260926T160000
DTSTAMP:20260420T095440
CREATED:20260406T162221Z
LAST-MODIFIED:20260406T162224Z
UID:10000690-1790427600-1790438400@www.dfac.org
SUMMARY:W-PA124 Painting Wildlife in Pastels with Shawn Dell Joyce
DESCRIPTION:All levels welcome! \n\n\n\n\n\nPaint Florida wildlife! Choose from provided reference photos of seabirds\, manatees\, turtles\, gators\, etc and create different textures like fur\, scales\, skin\, water\, feathers\, using pastels. Learn how to scumble\, use linear strokes\, daubing and dusting to create a focal point on an old painting or basis for a new painting. Bring a stack of unfinished or mediocre paintings that you want to add a creature to. No “trashy paintings”? No problem! Make a few studies of creatures to use for future paintings. Fun and step-by-step process\, finish a few paintings and learn new skills! \n\n\n\nClick Here for Supply List\nset of 72 or more soft pastels (not oil!) 11×14 or 12×16 sanded surface Pencil\, paper\, washcloth \n\n\n\n\n \n\n\n\n\nRegister\n\n\n\n\n\n\n\n\n\n\n\n\n\n\nDetails\n\n\n\n\n\n\n\n\n\n\n\n\n\n\n\n\n\n\n\n\n\nDate & Time: \n\n\n\n\n\n\n\n\n\n\n\nInstructor
URL:https://www.dfac.org/class/w-pa124-painting-wildlife-in-pastels-with-shawn-dell-joyce/
CATEGORIES:Adult Workshops
ATTACH;FMTTYPE=image/jpeg:https://www.dfac.org/wp-content/uploads/2019/03/Shawn_Dell_Joyce-Flamingle-scaled-e1775492525523.jpg
END:VEVENT
BEGIN:VEVENT
DTSTART;TZID=America/New_York:20261002T090000
DTEND;TZID=America/New_York:20261002T130000
DTSTAMP:20260420T095440
CREATED:20260324T173902Z
LAST-MODIFIED:20260324T173905Z
UID:10000612-1790931600-1790946000@www.dfac.org
SUMMARY:W-MM400 Paper Mache Sculpture with Joyce Curvin (OCT 2\, 9\, 16\, 23)
DESCRIPTION:All levels welcome!  \n\n\n\n\n\nDesign a dog\, fashion a feline or any four legged  friend and “bring it to life” with paper mache. Students will use a variety of recyclable materials including plastic bottles\, cardboard and newspaper to create an animal’s body shape\, then add layers of paper mache\, embellishments and paint to create their very own “Art-Official Pet”. During the process\,  we’ll explore a variety of techniques\, textures and recipes in paper mache. Materials fee covers all needed supplies. This workshop meets for 4 Fridays. Ages 17 and up. \n\n\n\n \n\n\n\n\nRegister\n\n\n\n\n\n\n\n\n\n\n\n\n\n\nDetails\n\n\n\n\n\n\n\n\n\n\n\n\n\n\n\n\n\n\n\n\n\nDate & Time: \n\n\n\n\n\n\n\n\n\n\n\nInstructor
URL:https://www.dfac.org/class/w-mm400-paper-mache-sculpture-with-joyce-curvin-oct-2-9-16-23/
CATEGORIES:Adult Workshops
ATTACH;FMTTYPE=image/png:https://www.dfac.org/wp-content/uploads/2026/03/W-MM400-Joyce-Curvin.png
END:VEVENT
BEGIN:VEVENT
DTSTART;TZID=America/New_York:20261006T130000
DTEND;TZID=America/New_York:20261006T160000
DTSTAMP:20260420T095440
CREATED:20260331T132245Z
LAST-MODIFIED:20260331T132246Z
UID:10000663-1791291600-1791302400@www.dfac.org
SUMMARY:W-AW109 From Frozen to Flowing with Evelyn Dufner
DESCRIPTION:All levels welcome!  \n\n\n\n\n\nBreak Creative Blocks and Find Your Artistic Groove. Tired of staring at a blank canvas or a half-written page? This workshop rekindles your artistic spark\, whether you’re a seasoned pro or a curious beginner. We’ll ditch the “inner critic” and dive into playful exercises that crack open your creative blocks. Forget rigid rules and “go-to” styles – it’s time to explore! The Instructor guides you beyond comfort zones\, helping you rediscover the joy of experimentation and the thrill of stepping outside the box. It’s not about perfection\, it’s about play. Join us and unlock the artist within – no matter where you are on your creative journey. \n\n\n\n\nRegister\n\n\n\n\n\n\n\n\n\n\n\n\n\n\nDetails\n\n\n\n\n\n\n\n\n\n\n\n\n\n\n\n\n\n\n\n\n\nDate & Time: \n\n\n\n\n\n\n\n\n\n\n\nInstructor
URL:https://www.dfac.org/class/w-aw109-from-frozen-to-flowing-with-evelyn-dufner-10/
CATEGORIES:Adult Workshops
ATTACH;FMTTYPE=image/jpeg:https://www.dfac.org/wp-content/uploads/2025/06/W-AW109-From-Frozen-to-Flowing.jpg
END:VEVENT
BEGIN:VEVENT
DTSTART;TZID=America/New_York:20261008T120000
DTEND;TZID=America/New_York:20261008T160000
DTSTAMP:20260420T095440
CREATED:20260324T144821Z
LAST-MODIFIED:20260324T144822Z
UID:10000600-1791460800-1791475200@www.dfac.org
SUMMARY:W-AM101 Artwork Archive: Master Your Art Management With Evelyn Dufner
DESCRIPTION:All levels welcome! (*But some basic computer knowledge required.) \n\n\n\n\n\nFeeling overwhelmed by managing your artwork? This hands-on workshop introduces you to Artwork Archive\, a powerful cloud-based software tool designed to streamline your collection!  Learn to photograph your work\, determine fair pricing strategies\, and curate stunning online exhibitions. Discover how to generate presentation-ready cut sheets\, labels\, and portfolio pages. We’ll even show you how to showcase your collection directly on your website and build a collector list. No prior experience necessary! Perfect for artists of all ages and skill levels. \n\n\n\n\nRegister\n\n\n\n\n\n\n\n\n\n\n\n\n\n\nDetails\n\n\n\n\n\n\n\n\n\n\n\n\n\n\n\n\n\n\n\n\n\nDate & Time: \n\n\n\n\n\n\n\n\n\n\n\nInstructor
URL:https://www.dfac.org/class/w-am101-artwork-archive-master-your-art-management-with-evelyn-dufner-10/
CATEGORIES:Adult Workshops
ATTACH;FMTTYPE=image/jpeg:https://www.dfac.org/wp-content/uploads/2025/06/W-AM101-Artwork-Archive-Master-Your-Art-Management.jpg
END:VEVENT
BEGIN:VEVENT
DTSTART;TZID=America/New_York:20261008T180000
DTEND;TZID=America/New_York:20261008T200000
DTSTAMP:20260420T095440
CREATED:20260324T151056Z
LAST-MODIFIED:20260324T151058Z
UID:10000606-1791482400-1791489600@www.dfac.org
SUMMARY:W-AM102 Artwork Archive Part II: Implementation and Expert Use with Evelyn Dufner
DESCRIPTION:Prerequisite: Artwork Archive: Master Your Art Management  \n\n\n\n\n\nYou’ve mastered the basics—now let’s get your archive working for you! This intensive 2-hour session is a dedicated Q&A workshop designed to move you past initial setup and into confident use of Artwork Archive. Bring your laptop\, your current inventory list\, and a list of questions about specific needs (like creating collections\, using the private viewing room\, or tracking expenses). We will tackle your individual hurdles\, troubleshoot common issues\, and provide knowledgeable\, personalized guidance on streamlining your catalog and documentation. This is your chance to get clarity on features and ensure you are maximizing the value of the platform for sales\, exhibitions\, and long-term curation. \n\n\n\nSupply list:  Students are encouraged to bring their own technology and images of their work\, and their login information so they can work with what they are familiar with. \n\n\n\n\nRegister\n\n\n\n\n\n\n\n\n\n\n\n\n\n\nDetails\n\n\n\n\n\n\n\n\n\n\n\n\n\n\n\n\n\n\n\n\n\nDate & Time: \n\n\n\n\n\n\n\n\n\n\n\nInstructor
URL:https://www.dfac.org/class/w-am102-artwork-archive-part-ii-implementation-and-expert-use-with-evelyn-dufner-3/
CATEGORIES:Adult Workshops
END:VEVENT
BEGIN:VEVENT
DTSTART;TZID=America/New_York:20261017T123000
DTEND;TZID=America/New_York:20261017T153000
DTSTAMP:20260420T095440
CREATED:20250610T140306Z
LAST-MODIFIED:20260406T155532Z
UID:10000219-1792240200-1792251000@www.dfac.org
SUMMARY:W-PT578 Wet Watercolor with Kerry Stratton Waltz
DESCRIPTION:All levels welcome!  \n\n\n\n\n\nThis one-day workshop will explore all the wonderful creative techniques that watercolor offers. Demonstrations\, individual attention\, and classroom discussions that will help you create loose\, impressionistic and expressive watercolors. We will learn how to plan for success by using the elements of design\, color theory\, and making painting plans. Enjoy the liquidity and spontaneity of watercolor. \n\n\n\nAges 17 and up. \n\n\n\nClick Here for Supply List\nWatercolor Supply List \n\n\n\nWatercolor Paper : 140 lb. 100% cotton handmade paper (Arches) cold press. I prefer the sheet form which comes in 22×30” which can be cut down to four ¼ sheets which is a good size for class work. \n\n\n\nBrushes : watercolor brushes are soft and made of sable\, squirrel\, ox hair\, and many synthetics. The most important quality of the brush is that it springs back to shape when wet. Please bring at least one of each of the following brushes: 1” Flat Brush\, #8 Round Brush\, #3 Rigger Brush (thin brush with long hairs). \n\n\n\nPaint : I prefer watercolor paint in tubes. There are many very good brands of paint but what is important is to have a warm and cool of each primary color. Grumbacher Academy is a good inexpensive student grade brand. \n\n\n\nCool \n\n\n\nWarm \n\n\n\nRed \n\n\n\nAlizarin Crimson \n\n\n\nCad Red Light or Vermillion \n\n\n\nBlue \n\n\n\nPrussian Blue \n\n\n\nUltramarine Blue \n\n\n\nYellow \n\n\n\nLemon or Cad Yellow Light \n\n\n\nCad Yellow Medium \n\n\n\nOther useful colors: Paynes Gray\, Burnt Sienna\, Burnt Umber\, Viridian\, Thalo Crimson (pink) \n\n\n\nPalette : any white palette with a good mixing area or a plastic white plate (not foam) \n\n\n\nBoard: This is support for your paper while you are painting so it should be waterproof. Size depends on size of paper and can be made of wood\, plexiglass\, Masonite or Gatorboard. \n\n\n\n2 water containers\, sponges\, papter towels\, tissues\, pencil\, kneaded eraser\, salt\, masking tape\, white crayon\, white copy paper to test color and brush strokes. \n\n\n\nIf you are new to watercolor bring what you have to class and I will help you get started. I have paper and some supplies that you can use. \n\n\n\n\n \n\n\n\n\nRegister\n\n\n\n\n\n\n\n\n\n\n\n\n\n\nDetails\n\n\n\n\n\n\n\n\n\n\n\n\n\n\n\n\n\n\n\n\n\nDate & Time: \n\n\n\n\n\n\n\n\n\n\n\nInstructor
URL:https://www.dfac.org/class/w-pt578-wet-watercolor-with-kerry-stratton-waltz-5/
CATEGORIES:Adult Workshops
ATTACH;FMTTYPE=image/jpeg:https://www.dfac.org/wp-content/uploads/2025/06/W-PT578-Wet-Watercolor.jpg
END:VEVENT
BEGIN:VEVENT
DTSTART;TZID=America/New_York:20261019T100000
DTEND;TZID=America/New_York:20261019T150000
DTSTAMP:20260420T095440
CREATED:20260407T140219Z
LAST-MODIFIED:20260407T140222Z
UID:10000723-1792404000-1792422000@www.dfac.org
SUMMARY:W-FB116 Seaside Fusable Applique Quilt with Ritu Haldar (Oct 19-20)
DESCRIPTION:All levels welcome!  \n\n\n\n\n\nCome join me for a two day workshop sewing Seaside – a Barbara Persing pattern at BP Quilts. This fun and playful fusible applique quilt is sized at 65″ X 73″\, 10 blocks that are easy and fun to sew. It is perfect for a beginner or intermediate level quilter. We will learn how to trace\, fuse and sew this pattern. The kit includes the pattern and generous yardage of batik fabrics by Island Batik.  \n\n\n\nYou have the option to buy the full kit for $160\, which includes the pattern and fabric\, or simply purchase the pattern from BP Quilts and provide your own fabric.  \n\n\n\n\nRegister\n\n\n\n\n\n\n\n\n\n\n\n\n\n\nDetails\n\n\n\n\n\n\n\n\n\n\n\n\n\n\n\n\n\n\n\n\n\nDate & Time: \n\n\n\n\n\n\n\n\n\n\n\nInstructor
URL:https://www.dfac.org/class/w-fb116-seaside-fusable-applique-quilt-with-ritu-haldar-oct-19-20/
CATEGORIES:Adult Workshops
ATTACH;FMTTYPE=image/jpeg:https://www.dfac.org/wp-content/uploads/2025/11/Seaside-Quilt.jpg
END:VEVENT
BEGIN:VEVENT
DTSTART;TZID=America/New_York:20261023T140000
DTEND;TZID=America/New_York:20261023T160000
DTSTAMP:20260420T095440
CREATED:20260331T140442Z
LAST-MODIFIED:20260331T140443Z
UID:10000667-1792764000-1792771200@www.dfac.org
SUMMARY:W-AW111 It’s Not the Busy world\, It is the Busy Mind. Meditative Drawing Event with Roberta Spain
DESCRIPTION:All levels welcome!  \n\n\n\n\n\nThis is not just a drawing class\, this may be your key to harmony! Meditative ornamental ink drawing is an ordinary activity that may bring you extraordinary results. I will share my 20+ years of experience in drawing as it always brings me peace and joy. I believe we can be the best versions of ourselves once we are feeling that total sense of harmony within\, so let me share my technique with you!  We will be meditating and drawing fascinating ornamental ink artworks that can help harness the inner harmony we all seem to forget we have. Good news is that the key is in your hands! \n\n\n\n\nRegister\n\n\n\n\n\n\n\n\n\n\n\n\n\n\nDetails\n\n\n\n\n\n\n\n\n\n\n\n\n\n\n\n\n\n\n\n\n\nDate & Time: \n\n\n\n\n\n\n\n\n\n\n\nInstructor
URL:https://www.dfac.org/class/w-aw111-its-not-the-busy-world-it-is-the-busy-mind-meditative-drawing-event-with-roberta-spain-5/
CATEGORIES:Adult Workshops
ATTACH;FMTTYPE=image/jpeg:https://www.dfac.org/wp-content/uploads/2025/06/W-AW111-Its-Not-the-Busy-World-Its-the-Busy-Mind-Meditative-Drawing.jpg
END:VEVENT
BEGIN:VEVENT
DTSTART;TZID=America/New_York:20261025T133000
DTEND;TZID=America/New_York:20261025T150000
DTSTAMP:20260420T095440
CREATED:20260326T182907Z
LAST-MODIFIED:20260326T182909Z
UID:10000651-1792935000-1792940400@www.dfac.org
SUMMARY:W-YH607 Happy Halloween Clay Workshop with Jacqueline LaDrig
DESCRIPTION:All levels welcome!  \n\n\n\n\n\nCreate your very own Pumpkin or Skull from clay that hardens without firing. Decorate your creation for a long-lasting holiday treasure. Create a haunted pumpkin patch with your family! \n\n\n\nAges 8 and older\, registration required for those who build their own clay creations. Must register by Oct. 17. \n\n\n\n\nRegister\n\n\n\n\n\n\n\n\n\n\n\n\n\n\nDetails\n\n\n\n\n\n\n\n\n\n\n\n\n\n\n\n\n\n\n\n\n\nDate & Time: \n\n\n\n\n\n\n\n\n\n\n\nInstructor
URL:https://www.dfac.org/class/w-yh607-happy-halloween-clay-workshop-with-jacqueline-ladrig-2/
CATEGORIES:Teen & Kid Workshops
ATTACH;FMTTYPE=image/jpeg:https://www.dfac.org/wp-content/uploads/2025/09/W-YH607-Happy-Halloween-Clay-Workshop-with-Jacqueline-LaDrig.jpg
END:VEVENT
BEGIN:VEVENT
DTSTART;TZID=America/New_York:20261026T140000
DTEND;TZID=America/New_York:20261026T170000
DTSTAMP:20260420T095440
CREATED:20250604T113842Z
LAST-MODIFIED:20260407T140805Z
UID:10000117-1793023200-1793034000@www.dfac.org
SUMMARY:FB904 Mayan Back-Strap Weaving With Concepcion Poou Coy Tharin
DESCRIPTION:Mondays\, 6 Week ClassAll levels welcome!  \n\n\n\n\n\nLearn the ancient Mayan art of back-strap weaving. Back-strap weaving is at once a delicate and beautiful art form\, highly portable (you can tie it to any post\, tree\, or even a nail in the wall)\, and wonderfully diverse. With this form of weaving you can make original table runners\, scarves\, place mats\, curtains\, shawls\, table clothes\, and much more. Students will learn to warp the thread and set up a loom\, and then to weave a small table runner with some traditional Mayan designs. The thread (many colors are available)\, loom\, warping board\, needle\, back-strap\, and tie cord are all included in the materials fee. \n\n\n\nAges 17 and up. Please note this art form requires students to bend over a loom for extended periods. \n\n\n\n\nRegister\n\n\n\n\n\n\n\n\n\n\n\n\n\n\nDetails\n\n\n\n\n\n\n\n\n\n\n\n\n\n\n\n\n\n\n\n\n\nDate & Time: \n\n\n\n\n\n\n\n\n\n\n\nInstructor
URL:https://www.dfac.org/class/fb904-mayan-back-strap-weaving-with-concepcion-poou-coy-tharin-2/
CATEGORIES:Adult Classes
ATTACH;FMTTYPE=image/jpeg:https://www.dfac.org/wp-content/uploads/2025/06/FB904-Mayan-Back-Strap-Weaving.jpg
END:VEVENT
END:VCALENDAR