BEGIN:VCALENDAR
VERSION:2.0
PRODID:-//Dunedin Fine Art Center - ECPv6.15.15//NONSGML v1.0//EN
CALSCALE:GREGORIAN
METHOD:PUBLISH
X-WR-CALNAME:Dunedin Fine Art Center
X-ORIGINAL-URL:https://www.dfac.org
X-WR-CALDESC:Events for Dunedin Fine Art Center
REFRESH-INTERVAL;VALUE=DURATION:PT1H
X-Robots-Tag:noindex
X-PUBLISHED-TTL:PT1H
BEGIN:VTIMEZONE
TZID:America/New_York
BEGIN:DAYLIGHT
TZOFFSETFROM:-0500
TZOFFSETTO:-0400
TZNAME:EDT
DTSTART:20240310T070000
END:DAYLIGHT
BEGIN:STANDARD
TZOFFSETFROM:-0400
TZOFFSETTO:-0500
TZNAME:EST
DTSTART:20241103T060000
END:STANDARD
BEGIN:DAYLIGHT
TZOFFSETFROM:-0500
TZOFFSETTO:-0400
TZNAME:EDT
DTSTART:20250309T070000
END:DAYLIGHT
BEGIN:STANDARD
TZOFFSETFROM:-0400
TZOFFSETTO:-0500
TZNAME:EST
DTSTART:20251102T060000
END:STANDARD
BEGIN:DAYLIGHT
TZOFFSETFROM:-0500
TZOFFSETTO:-0400
TZNAME:EDT
DTSTART:20260308T070000
END:DAYLIGHT
BEGIN:STANDARD
TZOFFSETFROM:-0400
TZOFFSETTO:-0500
TZNAME:EST
DTSTART:20261101T060000
END:STANDARD
END:VTIMEZONE
BEGIN:VEVENT
DTSTART;TZID=America/New_York:20251007T130000
DTEND;TZID=America/New_York:20251007T160000
DTSTAMP:20260422T045748
CREATED:20250607T141801Z
LAST-MODIFIED:20250825T201756Z
UID:10000189-1759842000-1759852800@www.dfac.org
SUMMARY:W-PA117 It’s too warm\, it’s too cool. . .it’s just right with Lorraine Potocki
DESCRIPTION:Intermediate\, Advanced \n\n\n\n\n\nSee the dramatic difference temperature changes can make by painting in all warm colors with just a bit of cool and painting in all cool colors with just a touch of warm. It can make all the difference in the feeling of the finished painting. Instructor demos and lots of personalized instruction will bring warm smiles to this cool class. \n\n\n\nBring the pastels\, hard and soft\, that you like to work with. I prefer UArt 400 sanded pastel paper. You can work in any size you are comfortable with—no smaller than 9 X 12. Bring your own photo references\, any subject matter. \n\n\n\n\nRegister\n\n\n\n\n\n\n\n\n\n\n\n\n\n\n\n\nDetails\n\n\n\n\n\n\n\n\n\n\n\n\n\n\n\n\n\n\n\n\n\nDate & Time: \n\n\n\n\n\n\n\n\n\n\n\nInstructor
URL:https://www.dfac.org/class/w-pa117-its-too-warm-its-too-cool-its-just-right-with-lorraine-potocki/
CATEGORIES:Adult Workshops
ATTACH;FMTTYPE=image/jpeg:https://www.dfac.org/wp-content/uploads/2025/06/Its-Too-Warm-Its-Too-Cool.jpg
END:VEVENT
BEGIN:VEVENT
DTSTART;TZID=America/New_York:20251004T130000
DTEND;TZID=America/New_York:20251004T160000
DTSTAMP:20260422T045748
CREATED:20250607T141037Z
LAST-MODIFIED:20250703T152759Z
UID:10000188-1759582800-1759593600@www.dfac.org
SUMMARY:W-PA111 Pastel Techniques with Shawn Dell Joyce
DESCRIPTION:Beginner\, Intermediate \n\n\n\n\n\nLearn how to scumble\, use linear strokes\, daubing and dusting to create a single painting. Start with an underpainting using an alcohol wash\, then build up layers using each technique\, one at a time. Get handouts showing each technique and practice before applying it to your painting. Fun and step-by-step process\, finish a painting and learn new skills! \n\n\n\nSupply List:Set of 72 or more soft pastels (not oil!)11 x 14 or 12 x 16 sanded surfacePencil\, paper\, washcloth. \n\n\n\n\nRegister\n\n\n\n\n\n\n\n\n\n\n\n\n\n\nDetails\n\n\n\n\n\n\n\n\n\n\n\n\n\n\n\n\n\n\n\n\n\nDate & Time: \n\n\n\n\n\n\n\n\n\n\n\nInstructor
URL:https://www.dfac.org/class/w-pa111-pastel-techniques-with-shawn-dell-joyce-2/
CATEGORIES:Adult Workshops
ATTACH;FMTTYPE=image/png:https://www.dfac.org/wp-content/uploads/2025/06/W-PA111-Pastel-Techniques.png
END:VEVENT
BEGIN:VEVENT
DTSTART;TZID=America/New_York:20250910T130000
DTEND;TZID=America/New_York:20250910T160000
DTSTAMP:20260422T045748
CREATED:20250607T133953Z
LAST-MODIFIED:20250703T153854Z
UID:10000182-1757509200-1757520000@www.dfac.org
SUMMARY:PA101 Let the Journey Begin: Beginning Pastels With Brenda Mattson
DESCRIPTION:Wednesdays\, 6 Week ClassBeginner \n\n\n\n\n\nCalling all beginners who are eager to express themselves in the world of pastels! This six-week class will provide a clear path on how to move forward with your journey into pastels. During this course\, you will learn about the best choice of hard\, medium and soft pastels and how to match the correct substrate for your artwork. You will learn about establishing color palette\, layering\, blending\, composition\, texture\, pastel color mixing\, and more. \n\n\n\nAges 17 and up. \n\n\n\n\nRegister\n\n\n\n\n\n\n\n\n\n\n\n\n\n\nDetails\n\n\n\n\n\n\n\n\n\n\n\n\n\n\n\n\n\n\n\n\n\nDate & Time: \n\n\n\n\n\n\n\n\n\n\n\nInstructor
URL:https://www.dfac.org/class/pa101-let-the-journey-begin-beginning-pastels-with-brenda-mattson/
CATEGORIES:Adult Classes
ATTACH;FMTTYPE=image/png:https://www.dfac.org/wp-content/uploads/2025/06/PA101-Let-the-Journey-Begin-Beginning-Pastels.png
END:VEVENT
BEGIN:VEVENT
DTSTART;TZID=America/New_York:20250726T130000
DTEND;TZID=America/New_York:20250726T160000
DTSTAMP:20260422T045748
CREATED:20250607T140733Z
LAST-MODIFIED:20250703T160307Z
UID:10000187-1753534800-1753545600@www.dfac.org
SUMMARY:W-PA111 Pastel Techniques with Shawn Dell Joyce
DESCRIPTION:Beginner\, Intermediate \n\n\n\n\n\nLearn how to scumble\, use linear strokes\, daubing and dusting to create a single painting. Start with an underpainting using an alcohol wash\, then build up layers using each technique\, one at a time. Get handouts showing each technique and practice before applying it to your painting. Fun and step-by-step process\, finish a painting and learn new skills! \n\n\n\nSupply List:Set of 72 or more soft pastels (not oil!)11 x 14 or 12 x 16 sanded surfacePencil\, paper\, washcloth. \n\n\n\n\nRegister\n\n\n\n\n\n\n\n\n\n\n\n\n\n\nDetails\n\n\n\n\n\n\n\n\n\n\n\n\n\n\n\n\n\n\n\n\n\nDate & Time: \n\n\n\n\n\n\n\n\n\n\n\nInstructor
URL:https://www.dfac.org/class/w-pa111-pastel-techniques-with-shawn-dell-joyce/
CATEGORIES:Adult Workshops
ATTACH;FMTTYPE=image/png:https://www.dfac.org/wp-content/uploads/2025/06/W-PA111-Pastel-Techniques.png
END:VEVENT
BEGIN:VEVENT
DTSTART;TZID=America/New_York:20250725T180000
DTEND;TZID=America/New_York:20250725T210000
DTSTAMP:20260422T045748
CREATED:20250607T140010Z
LAST-MODIFIED:20250703T160359Z
UID:10000186-1753466400-1753477200@www.dfac.org
SUMMARY:W-PA118 Painting Palm Trees with Shawn Dell Joyce
DESCRIPTION:Beginner\, Intermediate \n\n\n\n\n\nFollow along step by step using pastel to create palm tree paintings that look colorful and realistic. Learn perspective tips and value studies to help you approach the subject on your own. Make a single painting and several studies during workshop. \n\n\n\nSupply List:Set of 72 or more soft pastels (not oil!)11 x 14 or 12 x 16 sanded surfacePencil\, paper\, washcloth \n\n\n\n\nRegister\n\n\n\n\n\n\n\n\n\n\n\n\n\n\nDetails\n\n\n\n\n\n\n\n\n\n\n\n\n\n\n\n\n\n\n\n\n\nDate & Time: \n\n\n\n\n\n\n\n\n\n\n\nInstructor
URL:https://www.dfac.org/class/w-pa118-painting-palm-trees-with-shawn-dell-joyce/
CATEGORIES:Adult Workshops
ATTACH;FMTTYPE=image/png:https://www.dfac.org/wp-content/uploads/2025/06/W-PA118-Painting-Palm-Trees.png
END:VEVENT
END:VCALENDAR