BEGIN:VCALENDAR
VERSION:2.0
PRODID:-//Dunedin Fine Art Center - ECPv6.15.15//NONSGML v1.0//EN
CALSCALE:GREGORIAN
METHOD:PUBLISH
X-WR-CALNAME:Dunedin Fine Art Center
X-ORIGINAL-URL:https://www.dfac.org
X-WR-CALDESC:Events for Dunedin Fine Art Center
REFRESH-INTERVAL;VALUE=DURATION:PT1H
X-Robots-Tag:noindex
X-PUBLISHED-TTL:PT1H
BEGIN:VTIMEZONE
TZID:America/New_York
BEGIN:DAYLIGHT
TZOFFSETFROM:-0500
TZOFFSETTO:-0400
TZNAME:EDT
DTSTART:20250309T070000
END:DAYLIGHT
BEGIN:STANDARD
TZOFFSETFROM:-0400
TZOFFSETTO:-0500
TZNAME:EST
DTSTART:20251102T060000
END:STANDARD
BEGIN:DAYLIGHT
TZOFFSETFROM:-0500
TZOFFSETTO:-0400
TZNAME:EDT
DTSTART:20260308T070000
END:DAYLIGHT
BEGIN:STANDARD
TZOFFSETFROM:-0400
TZOFFSETTO:-0500
TZNAME:EST
DTSTART:20261101T060000
END:STANDARD
BEGIN:DAYLIGHT
TZOFFSETFROM:-0500
TZOFFSETTO:-0400
TZNAME:EDT
DTSTART:20270314T070000
END:DAYLIGHT
BEGIN:STANDARD
TZOFFSETFROM:-0400
TZOFFSETTO:-0500
TZNAME:EST
DTSTART:20271107T060000
END:STANDARD
END:VTIMEZONE
BEGIN:VEVENT
DTSTART;TZID=America/New_York:20261030T130000
DTEND;TZID=America/New_York:20261030T160000
DTSTAMP:20260425T072420
CREATED:20260406T182804Z
LAST-MODIFIED:20260406T182805Z
UID:10000703-1793365200-1793376000@www.dfac.org
SUMMARY:CL134 Handbuilt Sculptural Vessels with Joanna Mazurek
DESCRIPTION:Beginner  \n\n\n\n\n\nThis Class is designed for beginners and students with some experience with clay.  Students will learn the fundamental techniques of hand building\, including coiling\, pinching\, and slab construction\, to create sculptural vessels. They’ll explore how to manipulate clay to achieve organic forms\, textures\, and detailed surfaces\, while gaining a deeper understanding of balance\, proportion\, and the interplay of form and function. Additionally\, students will be introduced to surface decoration techniques such as carving\, glazing\, and underglazing. By the end of the course\, students will not only have developed their technical skills but also their ability to express themselves through ceramics\, creating unique\, sculptural pieces with personal meaning.  Ages 17 and up. \n\n\n\n \n\n\n\n\nRegister\n\n\n\n\n\n\n\n\n\n\n\n\n\n\nDetails\n\n\n\n\n\n\n\n\n\n\n\n\n\n\n\n\n\n\n\n\n\nDate & Time: \n\n\n\n\n\n\n\n\n\n\n\nInstructor
URL:https://www.dfac.org/class/cl134-handbuilt-sculptural-vessels-with-joanna-mazurek-6/
CATEGORIES:Adult Classes
ATTACH;FMTTYPE=image/png:https://www.dfac.org/wp-content/uploads/2025/10/CL134-Handbuilt-Sculptural-Vessels-with-Joanna-Mazurek.png
END:VEVENT
BEGIN:VEVENT
DTSTART;TZID=America/New_York:20261031T100000
DTEND;TZID=America/New_York:20261031T130000
DTSTAMP:20260425T072420
CREATED:20260407T123915Z
LAST-MODIFIED:20260407T123916Z
UID:10000719-1793440800-1793451600@www.dfac.org
SUMMARY:DR145 Figure Drawing with Zoe Papas
DESCRIPTION:Saturdays\, 6 Week ClassIntermediate \n\n\n\n\n\nIn this class\, students will learn how to draw the nude figure from life. Students will do gestures and longer drawings of live models. This class is best suited for students who already have a solid foundation in drawing and are looking to learn drawing strategies specific to figure drawing. It is recommended that students take Zoe’s Drawing Atelier class prior to figure drawing.   \n\n\n\nModel Fee: $60 \n\n\n\n\nRegister\n\n\n\n\n\n\n\n\n\n\n\n\n\n\nDetails\n\n\n\n\n\n\n\n\n\n\n\n\n\n\n\n\n\n\n\n\n\nDate & Time: \n\n\n\n\n\n\n\n\n\n\n\nInstructor
URL:https://www.dfac.org/class/dr145-figure-drawing-with-zoe-papas-7/
CATEGORIES:Adult Classes
ATTACH;FMTTYPE=image/jpeg:https://www.dfac.org/wp-content/uploads/2025/11/DR145-Figure-Drawing-with-Zoe-Papas.jpg
END:VEVENT
END:VCALENDAR